BEGIN:VCALENDAR
VERSION:2.0
PRODID:-//My Caribbean Park - ECPv6.15.20//NONSGML v1.0//EN
CALSCALE:GREGORIAN
METHOD:PUBLISH
X-WR-CALNAME:My Caribbean Park
X-ORIGINAL-URL:https://mycaribbeanpark.com
X-WR-CALDESC:Events for My Caribbean Park
REFRESH-INTERVAL;VALUE=DURATION:PT1H
X-Robots-Tag:noindex
X-PUBLISHED-TTL:PT1H
BEGIN:VTIMEZONE
TZID:Australia/Melbourne
BEGIN:STANDARD
TZOFFSETFROM:+1100
TZOFFSETTO:+1000
TZNAME:AEST
DTSTART:20230401T160000
END:STANDARD
BEGIN:DAYLIGHT
TZOFFSETFROM:+1000
TZOFFSETTO:+1100
TZNAME:AEDT
DTSTART:20230930T160000
END:DAYLIGHT
BEGIN:STANDARD
TZOFFSETFROM:+1100
TZOFFSETTO:+1000
TZNAME:AEST
DTSTART:20240406T160000
END:STANDARD
BEGIN:DAYLIGHT
TZOFFSETFROM:+1000
TZOFFSETTO:+1100
TZNAME:AEDT
DTSTART:20241005T160000
END:DAYLIGHT
BEGIN:STANDARD
TZOFFSETFROM:+1100
TZOFFSETTO:+1000
TZNAME:AEST
DTSTART:20250405T160000
END:STANDARD
BEGIN:DAYLIGHT
TZOFFSETFROM:+1000
TZOFFSETTO:+1100
TZNAME:AEDT
DTSTART:20251004T160000
END:DAYLIGHT
END:VTIMEZONE
BEGIN:VEVENT
DTSTART;VALUE=DATE:20240328
DTEND;VALUE=DATE:20240329
DTSTAMP:20260424T054916
CREATED:20240318T163516Z
LAST-MODIFIED:20240318T163516Z
UID:10079-1711584000-1711670399@mycaribbeanpark.com
SUMMARY:Caribbean Park Easter Competition
DESCRIPTION:Caribbean Park invites you to join us in celebrating the Easter season! 🐰🍫 \nEmbrace the spirit of Easter with @caribbean_park and enter for a chance to win one of three fantastic prizes! \nCARIBBEAN PARK EASTER BAGS \nThursday 28th March\, receive a small easter bag to enjoy on your long weekend. \nFind us at the podium 12pm – 1.30pm (or until stock lasts). \nEASTER COMPETITION \nThe prizes up for grabs are: \n1. One nights accommodation at @Hyattplacecaribbeanpark \n2. Large deluxe Easter hamper from Lindt valued at $145 \n3. Easter dessert box from @IcedbyAli \nSimply follow this link to enter – https://www.surveymonkey.com/r/BZ759K3 \nTo follow the fun of the day and to be a part of the Easter competition head to our community Instagram @caribbean_community. \nWinner will be announced Thursday 28th March at 2pm AEST\, and prizes must be collected from Caribbean Park office the same day. \nBonus points for anyone who tags us (@caribbean_community.) in any photos on the day! \nGOOD LUCK! 🐰🍫 \n 
URL:https://mycaribbeanpark.com/event/caribbean-park-easter2024/
CATEGORIES:Caribbean Park,Event
END:VEVENT
END:VCALENDAR