BEGIN:VCALENDAR
VERSION:2.0
PRODID:-//My Caribbean Park - ECPv6.15.20//NONSGML v1.0//EN
CALSCALE:GREGORIAN
METHOD:PUBLISH
X-WR-CALNAME:My Caribbean Park
X-ORIGINAL-URL:https://mycaribbeanpark.com
X-WR-CALDESC:Events for My Caribbean Park
REFRESH-INTERVAL;VALUE=DURATION:PT1H
X-Robots-Tag:noindex
X-PUBLISHED-TTL:PT1H
BEGIN:VTIMEZONE
TZID:Australia/Melbourne
BEGIN:STANDARD
TZOFFSETFROM:+1100
TZOFFSETTO:+1000
TZNAME:AEST
DTSTART:20230401T160000
END:STANDARD
BEGIN:DAYLIGHT
TZOFFSETFROM:+1000
TZOFFSETTO:+1100
TZNAME:AEDT
DTSTART:20230930T160000
END:DAYLIGHT
BEGIN:STANDARD
TZOFFSETFROM:+1100
TZOFFSETTO:+1000
TZNAME:AEST
DTSTART:20240406T160000
END:STANDARD
BEGIN:DAYLIGHT
TZOFFSETFROM:+1000
TZOFFSETTO:+1100
TZNAME:AEDT
DTSTART:20241005T160000
END:DAYLIGHT
BEGIN:STANDARD
TZOFFSETFROM:+1100
TZOFFSETTO:+1000
TZNAME:AEST
DTSTART:20250405T160000
END:STANDARD
BEGIN:DAYLIGHT
TZOFFSETFROM:+1000
TZOFFSETTO:+1100
TZNAME:AEDT
DTSTART:20251004T160000
END:DAYLIGHT
END:VTIMEZONE
BEGIN:VEVENT
DTSTART;TZID=Australia/Melbourne:20241218T160000
DTEND;TZID=Australia/Melbourne:20241218T180000
DTSTAMP:20260425T182444
CREATED:20240906T131011Z
LAST-MODIFIED:20240906T131011Z
UID:15336-1734537600-1734544800@mycaribbeanpark.com
SUMMARY:Christmas Market and Celebration with Caribbean Park
DESCRIPTION:Please Note: Due to the large number of RSVP’s the first 200 people to attend the event\, find Rebecca in the black Caribbean Park cap and say ‘Merry Christmas’ will receive a FREE drink card.  \n  \nCHRISTMAS MARKET AND CELEBRATION AT CARIBBEAN PARK \nLet’s toast to the end of the year with live music\, drinks\, and canapés! \nThe Christmas Market is back for 2024\, offering a great selection of last-minute gifts and mouthwatering treats! \nWednesday 18 December  \nMiddleman Cafe\, Caribbean Park  \n4pm – 6pm \nCLICK HERE TO RSVP\nWe are looking forward to spoiling you all! \n \n@imbuedistillery\n@keepitlit_candles\n@sleepy_soak\n@md_royale_bakes\n@argilladesigns\n@midwaywoodcrafts\n@cheekyrascalcider\n@sallymcnallyscondiments\n@caninechewcrew\n@leeschocolatehouses\n@bilbo_and_beebee \n@thetreblettes \n@clublimegyms \n@middlemanfunctions \n 
URL:https://mycaribbeanpark.com/event/christmasmarket/
CATEGORIES:Caribbean Park
END:VEVENT
END:VCALENDAR