BEGIN:VCALENDAR
VERSION:2.0
PRODID:-//My Caribbean Park - ECPv6.15.20//NONSGML v1.0//EN
CALSCALE:GREGORIAN
METHOD:PUBLISH
X-WR-CALNAME:My Caribbean Park
X-ORIGINAL-URL:https://mycaribbeanpark.com
X-WR-CALDESC:Events for My Caribbean Park
REFRESH-INTERVAL;VALUE=DURATION:PT1H
X-Robots-Tag:noindex
X-PUBLISHED-TTL:PT1H
BEGIN:VTIMEZONE
TZID:Australia/Melbourne
BEGIN:STANDARD
TZOFFSETFROM:+1100
TZOFFSETTO:+1000
TZNAME:AEST
DTSTART:20180331T160000
END:STANDARD
BEGIN:DAYLIGHT
TZOFFSETFROM:+1000
TZOFFSETTO:+1100
TZNAME:AEDT
DTSTART:20181006T160000
END:DAYLIGHT
BEGIN:STANDARD
TZOFFSETFROM:+1100
TZOFFSETTO:+1000
TZNAME:AEST
DTSTART:20190406T160000
END:STANDARD
BEGIN:DAYLIGHT
TZOFFSETFROM:+1000
TZOFFSETTO:+1100
TZNAME:AEDT
DTSTART:20191005T160000
END:DAYLIGHT
BEGIN:STANDARD
TZOFFSETFROM:+1100
TZOFFSETTO:+1000
TZNAME:AEST
DTSTART:20200404T160000
END:STANDARD
BEGIN:DAYLIGHT
TZOFFSETFROM:+1000
TZOFFSETTO:+1100
TZNAME:AEDT
DTSTART:20201003T160000
END:DAYLIGHT
END:VTIMEZONE
BEGIN:VEVENT
DTSTART;VALUE=DATE:20191015
DTEND;VALUE=DATE:20191116
DTSTAMP:20260423T080014
CREATED:20191015T160505Z
LAST-MODIFIED:20191015T160505Z
UID:4491-1571097600-1573862399@mycaribbeanpark.com
SUMMARY:Complimentary Reformer Pilates Classes (T&Cs apply)
DESCRIPTION:Have you heard of reformer Pilates but not sure what it is or the benefits it can have? Pinnacle Health Club is encouraging our Caribbean Park community to come along a try a class for free. With a maximum of 4 people per class\, you receive the guidance and education on how reformer can improve your strength\, flexibility and mobility. Simply fill in your details here and the Pinnacle team will be in touch to book you in.
URL:https://mycaribbeanpark.com/event/complimentary-reformer-pilates-classes-tcs-apply/
LOCATION:work sans;normal;400;100%;U+0-10FFFF
CATEGORIES:Caribbean Park,Event
ATTACH;FMTTYPE=:
END:VEVENT
END:VCALENDAR