BEGIN:VCALENDAR
VERSION:2.0
PRODID:-//My Caribbean Park - ECPv6.15.20//NONSGML v1.0//EN
CALSCALE:GREGORIAN
METHOD:PUBLISH
X-WR-CALNAME:My Caribbean Park
X-ORIGINAL-URL:https://mycaribbeanpark.com
X-WR-CALDESC:Events for My Caribbean Park
REFRESH-INTERVAL;VALUE=DURATION:PT1H
X-Robots-Tag:noindex
X-PUBLISHED-TTL:PT1H
BEGIN:VTIMEZONE
TZID:Australia/Melbourne
BEGIN:STANDARD
TZOFFSETFROM:+1100
TZOFFSETTO:+1000
TZNAME:AEST
DTSTART:20180331T160000
END:STANDARD
BEGIN:DAYLIGHT
TZOFFSETFROM:+1000
TZOFFSETTO:+1100
TZNAME:AEDT
DTSTART:20181006T160000
END:DAYLIGHT
BEGIN:STANDARD
TZOFFSETFROM:+1100
TZOFFSETTO:+1000
TZNAME:AEST
DTSTART:20190406T160000
END:STANDARD
BEGIN:DAYLIGHT
TZOFFSETFROM:+1000
TZOFFSETTO:+1100
TZNAME:AEDT
DTSTART:20191005T160000
END:DAYLIGHT
BEGIN:STANDARD
TZOFFSETFROM:+1100
TZOFFSETTO:+1000
TZNAME:AEST
DTSTART:20200404T160000
END:STANDARD
BEGIN:DAYLIGHT
TZOFFSETFROM:+1000
TZOFFSETTO:+1100
TZNAME:AEDT
DTSTART:20201003T160000
END:DAYLIGHT
END:VTIMEZONE
BEGIN:VEVENT
DTSTART;TZID=Australia/Melbourne:20190804T090000
DTEND;TZID=Australia/Melbourne:20190804T150000
DTSTAMP:20260425T163619
CREATED:20190624T120632Z
LAST-MODIFIED:20190624T120632Z
UID:4072-1564909200-1564930800@mycaribbeanpark.com
SUMMARY:Cycle Cross at Caribbean Park
DESCRIPTION:Victorian Cyclo Cross Series – Round 7 at Caribbean Park.\n\nCROSS IS COMING!\n\n\nCycling Victoria is pleased to announce the calendar of events for the 2019 Victorian Cyclo-cross Series (VICXS). \nThis is the fifth year CV has run the VICXS series and we have seven rounds of racing throughout the winter season. This year racing will begin in Broadford on Sunday\, April 28 and conclude in the Melbourne Caribbean Gardens on August 4. \nThe Series will see a couple of new venues introduced with the Broadford State Motorcycle Sports Complex for round one as well as Hammon Park for round four at the end of May. \nTeam Mount Beauty hosted a doubleheader on Queen’s Birthday weekend\, this time including the State Championships on Saturday and round five of the series on Sunday. \nVictoria again is the place to be in 2019: 7 rounds of the Victorian Series\, 4 rounds of the National Series in Ballarat and Broadford respectively plus the National Championships in King Valley. Ensure you are part of the largest Cyclo-cross events in Australia! \n\nContact us on Facebook for sponsorship enquiries. \nTABLE OF EVENTS: TBA \n \n 
URL:https://mycaribbeanpark.com/event/cyclocross2018-2/
CATEGORIES:Caribbean Park
ATTACH;FMTTYPE=image/jpeg:https://mycaribbeanpark.com/wp-content/uploads/2018/06/11990653_887793964622865_5997881625462417884_n-1.jpg
END:VEVENT
END:VCALENDAR