BEGIN:VCALENDAR
VERSION:2.0
PRODID:-//My Caribbean Park - ECPv6.15.20//NONSGML v1.0//EN
CALSCALE:GREGORIAN
METHOD:PUBLISH
X-WR-CALNAME:My Caribbean Park
X-ORIGINAL-URL:https://mycaribbeanpark.com
X-WR-CALDESC:Events for My Caribbean Park
REFRESH-INTERVAL;VALUE=DURATION:PT1H
X-Robots-Tag:noindex
X-PUBLISHED-TTL:PT1H
BEGIN:VTIMEZONE
TZID:Australia/Melbourne
BEGIN:STANDARD
TZOFFSETFROM:+1100
TZOFFSETTO:+1000
TZNAME:AEST
DTSTART:20170401T160000
END:STANDARD
BEGIN:DAYLIGHT
TZOFFSETFROM:+1000
TZOFFSETTO:+1100
TZNAME:AEDT
DTSTART:20170930T160000
END:DAYLIGHT
BEGIN:STANDARD
TZOFFSETFROM:+1100
TZOFFSETTO:+1000
TZNAME:AEST
DTSTART:20180331T160000
END:STANDARD
BEGIN:DAYLIGHT
TZOFFSETFROM:+1000
TZOFFSETTO:+1100
TZNAME:AEDT
DTSTART:20181006T160000
END:DAYLIGHT
BEGIN:STANDARD
TZOFFSETFROM:+1100
TZOFFSETTO:+1000
TZNAME:AEST
DTSTART:20190406T160000
END:STANDARD
BEGIN:DAYLIGHT
TZOFFSETFROM:+1000
TZOFFSETTO:+1100
TZNAME:AEDT
DTSTART:20191005T160000
END:DAYLIGHT
END:VTIMEZONE
BEGIN:VEVENT
DTSTART;TZID=Australia/Melbourne:20180715T090000
DTEND;TZID=Australia/Melbourne:20180715T150000
DTSTAMP:20260426T020557
CREATED:20180614T144436Z
LAST-MODIFIED:20180614T144436Z
UID:2776-1531645200-1531666800@mycaribbeanpark.com
SUMMARY:2018 Singapore Airlines Victorian CX Series (VICXS ROUND 6)
DESCRIPTION:Victorian Cyclo Cross Series – Round 6 at Caribbean Park.\nRound 6 of the 2018 Victorian CX Season.\nEntries and details: tba \nContact us on Facebook for sponsorship enquiries. \nTABLE OF EVENTS: TBA \n3:00pm: Course pull down – all help appreciated \nREGS:\n· Start procedures: – The Chief Commissaire will separate grades and send them away in waves if grade numbers are sufficient. Small grades may be combined. \nSPECIAL NOTICES (TBC) \n· CX bikes must run CX tyres – 35mm max width (as written on tyre with tiny allowance for tyre flare on wide rims). Definitely no gravel grinder or Monster Cross tyres in CX Race Category. Riders can race Opens with any tyre\, any bike. \n· PITS will be in operation: – As is the tradition in Cross\, mechanical assistance must be taken from the designated pit area. Spare wheels & bike changes cannot be taken from random locations on the course – only in the pits. Riders must run the course to the pits if their bike is unrideable. We will run double-sided pits so the max distance to pits should be no more than half a lap depending on course layout. \n· Series Races – minimum ages? – Open category races are not part of the VIC CX Series points aggregate and are regarded as ‘club racing’ categories. The minimum age for Series races is U17. Older juniors (say U15)\, with suitable experience\, looking to race the full course for a full race duration can enter Opens.
URL:https://mycaribbeanpark.com/event/cyclocross2018/
CATEGORIES:Caribbean Park
ATTACH;FMTTYPE=image/jpeg:https://mycaribbeanpark.com/wp-content/uploads/2018/06/11990653_887793964622865_5997881625462417884_n-1.jpg
END:VEVENT
END:VCALENDAR