BEGIN:VCALENDAR
VERSION:2.0
PRODID:-//My Caribbean Park - ECPv6.15.20//NONSGML v1.0//EN
CALSCALE:GREGORIAN
METHOD:PUBLISH
X-WR-CALNAME:My Caribbean Park
X-ORIGINAL-URL:https://mycaribbeanpark.com
X-WR-CALDESC:Events for My Caribbean Park
REFRESH-INTERVAL;VALUE=DURATION:PT1H
X-Robots-Tag:noindex
X-PUBLISHED-TTL:PT1H
BEGIN:VTIMEZONE
TZID:Australia/Melbourne
BEGIN:STANDARD
TZOFFSETFROM:+1100
TZOFFSETTO:+1000
TZNAME:AEST
DTSTART:20190406T160000
END:STANDARD
BEGIN:DAYLIGHT
TZOFFSETFROM:+1000
TZOFFSETTO:+1100
TZNAME:AEDT
DTSTART:20191005T160000
END:DAYLIGHT
BEGIN:STANDARD
TZOFFSETFROM:+1100
TZOFFSETTO:+1000
TZNAME:AEST
DTSTART:20200404T160000
END:STANDARD
BEGIN:DAYLIGHT
TZOFFSETFROM:+1000
TZOFFSETTO:+1100
TZNAME:AEDT
DTSTART:20201003T160000
END:DAYLIGHT
BEGIN:STANDARD
TZOFFSETFROM:+1100
TZOFFSETTO:+1000
TZNAME:AEST
DTSTART:20210403T160000
END:STANDARD
BEGIN:DAYLIGHT
TZOFFSETFROM:+1000
TZOFFSETTO:+1100
TZNAME:AEDT
DTSTART:20211002T160000
END:DAYLIGHT
END:VTIMEZONE
BEGIN:VEVENT
DTSTART;TZID=Australia/Melbourne:20200331T080000
DTEND;TZID=Australia/Melbourne:20200412T170000
DTSTAMP:20260425T011029
CREATED:20200331T150810Z
LAST-MODIFIED:20200331T150810Z
UID:4876-1585641600-1586710800@mycaribbeanpark.com
SUMMARY:Easter Competition - Count the eggs
DESCRIPTION:Join in the Easter fun at Caribbean Park\, whether your working from home or not.  \nWe still want to keep the community spirit alive so we thought we would run a competition within our community ( Your office must reside in Caribbean Park to enter) \nAll you have to do to go into the draw to win an Easter Hamper is: \n\nFollow our Instagram page\nLeave a comment tagging the @company within Caribbean Park that you work for and your guess of how many eggs are in the jar.\nIf you win we will contact you to find out where to send your prize.
URL:https://mycaribbeanpark.com/event/easter-competition-play-along-from-home/
CATEGORIES:Caribbean Park,Event
ATTACH;FMTTYPE=:
END:VEVENT
END:VCALENDAR