BEGIN:VCALENDAR
VERSION:2.0
PRODID:-//My Caribbean Park - ECPv6.15.20//NONSGML v1.0//EN
CALSCALE:GREGORIAN
METHOD:PUBLISH
X-WR-CALNAME:My Caribbean Park
X-ORIGINAL-URL:https://mycaribbeanpark.com
X-WR-CALDESC:Events for My Caribbean Park
REFRESH-INTERVAL;VALUE=DURATION:PT1H
X-Robots-Tag:noindex
X-PUBLISHED-TTL:PT1H
BEGIN:VTIMEZONE
TZID:Australia/Melbourne
BEGIN:STANDARD
TZOFFSETFROM:+1100
TZOFFSETTO:+1000
TZNAME:AEST
DTSTART:20210403T160000
END:STANDARD
BEGIN:DAYLIGHT
TZOFFSETFROM:+1000
TZOFFSETTO:+1100
TZNAME:AEDT
DTSTART:20211002T160000
END:DAYLIGHT
BEGIN:STANDARD
TZOFFSETFROM:+1100
TZOFFSETTO:+1000
TZNAME:AEST
DTSTART:20220402T160000
END:STANDARD
BEGIN:DAYLIGHT
TZOFFSETFROM:+1000
TZOFFSETTO:+1100
TZNAME:AEDT
DTSTART:20221001T160000
END:DAYLIGHT
BEGIN:STANDARD
TZOFFSETFROM:+1100
TZOFFSETTO:+1000
TZNAME:AEST
DTSTART:20230401T160000
END:STANDARD
BEGIN:DAYLIGHT
TZOFFSETFROM:+1000
TZOFFSETTO:+1100
TZNAME:AEDT
DTSTART:20230930T160000
END:DAYLIGHT
END:VTIMEZONE
BEGIN:VEVENT
DTSTART;TZID=Australia/Melbourne:20220414T120000
DTEND;TZID=Australia/Melbourne:20220414T140000
DTSTAMP:20260425T004900
CREATED:20220405T145212Z
LAST-MODIFIED:20220405T145212Z
UID:6191-1649937600-1649944800@mycaribbeanpark.com
SUMMARY:Easter Event
DESCRIPTION:We are doing Easter a little differently this year. \nCelebrate one of the yummiest events we have all year by getting involved in our Easter Hamper instagram competition (chance to win $130 Easter Hamper) and our Mini Easter gift basket giveaway. \nCARIBBEAN PARK EASTER BASKETS \nThursday 14th April\, receive a small easter basket to enjoy on your long weekend. \nFind us at the podium 12pm – 2pm ( or until baskets are gone). \nEASTER HAMPER COMPETITION \nWe have an amazing Darrell Lea Easter Hamper valued at $130 to win! \nSimply go to our instagram\, find the Caribbean Park Easter Hamper Competition then follow these steps: \n\nLike our @caribbean_community instagram\nLike our easter post\nTag a workmate in the comments\n\nTo follow the fun of the day and to be a part of the Easter Hamper competition head to our community instagram @caribbean_community.
URL:https://mycaribbeanpark.com/event/easter-event-2022/
CATEGORIES:Caribbean Park
ATTACH;FMTTYPE=:
END:VEVENT
END:VCALENDAR