BEGIN:VCALENDAR
VERSION:2.0
PRODID:-//My Caribbean Park - ECPv6.15.20//NONSGML v1.0//EN
CALSCALE:GREGORIAN
METHOD:PUBLISH
X-WR-CALNAME:My Caribbean Park
X-ORIGINAL-URL:https://mycaribbeanpark.com
X-WR-CALDESC:Events for My Caribbean Park
REFRESH-INTERVAL;VALUE=DURATION:PT1H
X-Robots-Tag:noindex
X-PUBLISHED-TTL:PT1H
BEGIN:VTIMEZONE
TZID:Australia/Melbourne
BEGIN:STANDARD
TZOFFSETFROM:+1100
TZOFFSETTO:+1000
TZNAME:AEST
DTSTART:20230401T160000
END:STANDARD
BEGIN:DAYLIGHT
TZOFFSETFROM:+1000
TZOFFSETTO:+1100
TZNAME:AEDT
DTSTART:20230930T160000
END:DAYLIGHT
BEGIN:STANDARD
TZOFFSETFROM:+1100
TZOFFSETTO:+1000
TZNAME:AEST
DTSTART:20240406T160000
END:STANDARD
BEGIN:DAYLIGHT
TZOFFSETFROM:+1000
TZOFFSETTO:+1100
TZNAME:AEDT
DTSTART:20241005T160000
END:DAYLIGHT
BEGIN:STANDARD
TZOFFSETFROM:+1100
TZOFFSETTO:+1000
TZNAME:AEST
DTSTART:20250405T160000
END:STANDARD
BEGIN:DAYLIGHT
TZOFFSETFROM:+1000
TZOFFSETTO:+1100
TZNAME:AEDT
DTSTART:20251004T160000
END:DAYLIGHT
END:VTIMEZONE
BEGIN:VEVENT
DTSTART;TZID=Australia/Melbourne:20240818T120000
DTEND;TZID=Australia/Melbourne:20240818T180000
DTSTAMP:20260423T205835
CREATED:20240717T142658Z
LAST-MODIFIED:20240717T142658Z
UID:15009-1723982400-1724004000@mycaribbeanpark.com
SUMMARY:San Lorenzo - WINTER TRUFFLE & PINOT LUNCH
DESCRIPTION:WINTER TRUFFLE & PINOT LUNCH\n\n\n\n\nNearly all of us have heard of truffles. Some have sampled them in various forms and recipes. But even fewer have tried a degustation menu featuring this highly acclaimed\, delightfully aromatic ingredient. \nThe WINTER TRUFFLE & PINOT LUNCH will feature the incomparable and delicious truffle. This exclusive lunch offers the perfect opportunity to discover the flavourful contribution of the famous Black Truffle in your culinary experience. \nJoin San Lorenzo for a unique culinary journey and discover the remarkable sensory impact of truffles\, paired with Pinot Noir and Pinot Grigio – wines that bring enough presence to blend with the truffle’s intensity without dominating the show. \n\n\n\n\n\nINCLUSIONS\n4 course chef set menu + Paired beverages \n\n\n\n\n\n\nDETAILS\nSunday 18th August\, 2024\n12PM Start\n$110PP per person \n\n\n\n\n\n\nWHERE\nSan Lorenzo Restaurant\n31 Dalmore Drive\,\nScoresby VIC 3179 \n\n\n\n\n\n\n\n\n\n\n\nBOOK TICKETS – HERE \nLimited seats available\nP 03 9764 8357\nE info@sanlorenzorestaurant.com.au
URL:https://mycaribbeanpark.com/event/express-lunch-2/
CATEGORIES:Event,San Lorenzo
END:VEVENT
END:VCALENDAR