BEGIN:VCALENDAR
VERSION:2.0
PRODID:-//My Caribbean Park - ECPv6.15.20//NONSGML v1.0//EN
CALSCALE:GREGORIAN
METHOD:PUBLISH
X-WR-CALNAME:My Caribbean Park
X-ORIGINAL-URL:https://mycaribbeanpark.com
X-WR-CALDESC:Events for My Caribbean Park
REFRESH-INTERVAL;VALUE=DURATION:PT1H
X-Robots-Tag:noindex
X-PUBLISHED-TTL:PT1H
BEGIN:VTIMEZONE
TZID:Australia/Melbourne
BEGIN:STANDARD
TZOFFSETFROM:+1100
TZOFFSETTO:+1000
TZNAME:AEST
DTSTART:20170401T160000
END:STANDARD
BEGIN:DAYLIGHT
TZOFFSETFROM:+1000
TZOFFSETTO:+1100
TZNAME:AEDT
DTSTART:20170930T160000
END:DAYLIGHT
BEGIN:STANDARD
TZOFFSETFROM:+1100
TZOFFSETTO:+1000
TZNAME:AEST
DTSTART:20180331T160000
END:STANDARD
BEGIN:DAYLIGHT
TZOFFSETFROM:+1000
TZOFFSETTO:+1100
TZNAME:AEDT
DTSTART:20181006T160000
END:DAYLIGHT
BEGIN:STANDARD
TZOFFSETFROM:+1100
TZOFFSETTO:+1000
TZNAME:AEST
DTSTART:20190406T160000
END:STANDARD
BEGIN:DAYLIGHT
TZOFFSETFROM:+1000
TZOFFSETTO:+1100
TZNAME:AEDT
DTSTART:20191005T160000
END:DAYLIGHT
END:VTIMEZONE
BEGIN:VEVENT
DTSTART;TZID=Australia/Melbourne:20181130T110000
DTEND;TZID=Australia/Melbourne:20181130T120000
DTSTAMP:20260425T212140
CREATED:20181126T101229Z
LAST-MODIFIED:20181126T101229Z
UID:3559-1543575600-1543579200@mycaribbeanpark.com
SUMMARY:Farm Fresh Flower Drop Friday
DESCRIPTION:We highly recommend you pre-order your flowers through Flower Drop for Christmas and the gift giving season… \nBUT – let’s just say you didn’t get to do it in time or you like to live on the edge… Flower Drop will have you covered\, for flowers from 11am-12pm\, in the car park of 35 Dalmore Drive\, Scoresby – Caribbean Park. \nThere will be various size bunches to suit all budgets. \nThese will be the freshest of flowers to ensure they are stunning for during the gift giving season. \n  \nFlower Drop has been supplying Caribbean Park with beautiful flowers for over 2 years… check out some of the range on their website www.flowerdrop.com.au and feel free to order flowers anytime through the MyCaribbeanPark portal. \n \n  \n  \n  \n 
URL:https://mycaribbeanpark.com/event/flower-drop-friday/
CATEGORIES:Caribbean Park
ATTACH;FMTTYPE=image/png:https://mycaribbeanpark.com/wp-content/uploads/2015/03/14-1.png
END:VEVENT
END:VCALENDAR