BEGIN:VCALENDAR
VERSION:2.0
PRODID:-//My Caribbean Park - ECPv6.15.20//NONSGML v1.0//EN
CALSCALE:GREGORIAN
METHOD:PUBLISH
X-WR-CALNAME:My Caribbean Park
X-ORIGINAL-URL:https://mycaribbeanpark.com
X-WR-CALDESC:Events for My Caribbean Park
REFRESH-INTERVAL;VALUE=DURATION:PT1H
X-Robots-Tag:noindex
X-PUBLISHED-TTL:PT1H
BEGIN:VTIMEZONE
TZID:Australia/Melbourne
BEGIN:STANDARD
TZOFFSETFROM:+1100
TZOFFSETTO:+1000
TZNAME:AEST
DTSTART:20210403T160000
END:STANDARD
BEGIN:DAYLIGHT
TZOFFSETFROM:+1000
TZOFFSETTO:+1100
TZNAME:AEDT
DTSTART:20211002T160000
END:DAYLIGHT
BEGIN:STANDARD
TZOFFSETFROM:+1100
TZOFFSETTO:+1000
TZNAME:AEST
DTSTART:20220402T160000
END:STANDARD
BEGIN:DAYLIGHT
TZOFFSETFROM:+1000
TZOFFSETTO:+1100
TZNAME:AEDT
DTSTART:20221001T160000
END:DAYLIGHT
BEGIN:STANDARD
TZOFFSETFROM:+1100
TZOFFSETTO:+1000
TZNAME:AEST
DTSTART:20230401T160000
END:STANDARD
BEGIN:DAYLIGHT
TZOFFSETFROM:+1000
TZOFFSETTO:+1100
TZNAME:AEDT
DTSTART:20230930T160000
END:DAYLIGHT
END:VTIMEZONE
BEGIN:VEVENT
DTSTART;TZID=Australia/Melbourne:20220921T120000
DTEND;TZID=Australia/Melbourne:20220921T140000
DTSTAMP:20260424T021658
CREATED:20220905T170241Z
LAST-MODIFIED:20220905T170241Z
UID:6586-1663761600-1663768800@mycaribbeanpark.com
SUMMARY:Footy Finals BBQ
DESCRIPTION:Come and celebrate the Grand Final build up with us! \nCaribbean Park is hosting a FREE sausage sizzle only catch is you must RSVP so we don’t run out of sausages!! \nPlease RSVP via Survey Monkey: https://www.surveymonkey.com/r/7QWDBDW  \n  \nPARKING: If you are coming from the Industrial part of Caribbean Park please feel free to use the visitor carping 2 hours free. If this is full you are welcome to use the public underground car parking accessible through 31 Dalmore Drive. You will need a credit card to tap onto the reader for entry and exit. First 3 hours is FREE. \nNote: Due to the public holiday announced for the Queen – we have moved the Grand Final BBQ a day earlier to WEDNESDAY.
URL:https://mycaribbeanpark.com/event/footy-finals-bbq-2-2/
CATEGORIES:Caribbean Park,Event
ATTACH;FMTTYPE=:
END:VEVENT
END:VCALENDAR