BEGIN:VCALENDAR
VERSION:2.0
PRODID:-//My Caribbean Park - ECPv6.15.20//NONSGML v1.0//EN
CALSCALE:GREGORIAN
METHOD:PUBLISH
X-WR-CALNAME:My Caribbean Park
X-ORIGINAL-URL:https://mycaribbeanpark.com
X-WR-CALDESC:Events for My Caribbean Park
REFRESH-INTERVAL;VALUE=DURATION:PT1H
X-Robots-Tag:noindex
X-PUBLISHED-TTL:PT1H
BEGIN:VTIMEZONE
TZID:Australia/Melbourne
BEGIN:STANDARD
TZOFFSETFROM:+1100
TZOFFSETTO:+1000
TZNAME:AEST
DTSTART:20230401T160000
END:STANDARD
BEGIN:DAYLIGHT
TZOFFSETFROM:+1000
TZOFFSETTO:+1100
TZNAME:AEDT
DTSTART:20230930T160000
END:DAYLIGHT
BEGIN:STANDARD
TZOFFSETFROM:+1100
TZOFFSETTO:+1000
TZNAME:AEST
DTSTART:20240406T160000
END:STANDARD
BEGIN:DAYLIGHT
TZOFFSETFROM:+1000
TZOFFSETTO:+1100
TZNAME:AEDT
DTSTART:20241005T160000
END:DAYLIGHT
BEGIN:STANDARD
TZOFFSETFROM:+1100
TZOFFSETTO:+1000
TZNAME:AEST
DTSTART:20250405T160000
END:STANDARD
BEGIN:DAYLIGHT
TZOFFSETFROM:+1000
TZOFFSETTO:+1100
TZNAME:AEDT
DTSTART:20251004T160000
END:DAYLIGHT
END:VTIMEZONE
BEGIN:VEVENT
DTSTART;TZID=Australia/Melbourne:20240926T120000
DTEND;TZID=Australia/Melbourne:20240926T130000
DTSTAMP:20260424T041406
CREATED:20240906T101520Z
LAST-MODIFIED:20240906T101520Z
UID:15242-1727352000-1727355600@mycaribbeanpark.com
SUMMARY:AFL Grand Final Celebrations
DESCRIPTION:AFL Grand Final Celebrations \nJoin us as we kick off the AFL Grand Final celebrations with free sausages and drinks! \nWhen: Thursday 26 September 2024 \nWhere: North BBQ (near San Lorenzo) \nTime: 12pm – 1pm or until stock lasts \nIncludes: Beer\, Wine\, Cider\, non-alcoholic drinks\, sausages and bread. \nThanks to the AFL Grand Final most of us have Friday off and to celebrate we are hosting a free footy finals sausage sizzle! \nAll Caribbean Park tenants are welcome to attend. It’s a great opportunity get to know your neighbours and celebrate the footy season. Remember to dress in your footy colours and RSVP below for your chance to win some great prizes! \nWe will be cooking sausages from 12pm-1pm so be sure to pop in and see us. We’d love to see you all there to kick off the long weekend. \nTo help us with catering please take a moment to click here and let us know if you can make it. \nWhen you RSVP you will automatically be put in the draw to win 1 of 3 incredible prizes. \n1. One nights accommodation at Hyatt Place Melbourne Caribbean Park \n2. $100 Voucher to the AFL Store \n3. Sherrin Football \nWe will announce the winners at the event\, you must be there!
URL:https://mycaribbeanpark.com/event/footy/
CATEGORIES:Caribbean Park,Event
ATTACH;FMTTYPE=image/png:https://mycaribbeanpark.com/wp-content/uploads/2024/08/Copy-of-Grand-Final-Screen-Portrait-3-1.png
END:VEVENT
END:VCALENDAR