BEGIN:VCALENDAR
VERSION:2.0
PRODID:-//My Caribbean Park - ECPv6.15.20//NONSGML v1.0//EN
CALSCALE:GREGORIAN
METHOD:PUBLISH
X-WR-CALNAME:My Caribbean Park
X-ORIGINAL-URL:https://mycaribbeanpark.com
X-WR-CALDESC:Events for My Caribbean Park
REFRESH-INTERVAL;VALUE=DURATION:PT1H
X-Robots-Tag:noindex
X-PUBLISHED-TTL:PT1H
BEGIN:VTIMEZONE
TZID:Australia/Melbourne
BEGIN:STANDARD
TZOFFSETFROM:+1100
TZOFFSETTO:+1000
TZNAME:AEST
DTSTART:20220402T160000
END:STANDARD
BEGIN:DAYLIGHT
TZOFFSETFROM:+1000
TZOFFSETTO:+1100
TZNAME:AEDT
DTSTART:20221001T160000
END:DAYLIGHT
BEGIN:STANDARD
TZOFFSETFROM:+1100
TZOFFSETTO:+1000
TZNAME:AEST
DTSTART:20230401T160000
END:STANDARD
BEGIN:DAYLIGHT
TZOFFSETFROM:+1000
TZOFFSETTO:+1100
TZNAME:AEDT
DTSTART:20230930T160000
END:DAYLIGHT
BEGIN:STANDARD
TZOFFSETFROM:+1100
TZOFFSETTO:+1000
TZNAME:AEST
DTSTART:20240406T160000
END:STANDARD
BEGIN:DAYLIGHT
TZOFFSETFROM:+1000
TZOFFSETTO:+1100
TZNAME:AEDT
DTSTART:20241005T160000
END:DAYLIGHT
END:VTIMEZONE
BEGIN:VEVENT
DTSTART;TZID=Australia/Melbourne:20231102T163000
DTEND;TZID=Australia/Melbourne:20231102T180000
DTSTAMP:20260424T041452
CREATED:20231010T130240Z
LAST-MODIFIED:20231010T130240Z
UID:9509-1698942600-1698948000@mycaribbeanpark.com
SUMMARY:GRAND CRU WINE TASTING
DESCRIPTION:Grand Cru Wine Tasting at Caribbean Park \nWine enthusiasts\, clear your calendars! The epitome of elegance and taste comes to Caribbean Park on Thursday 2nd November 2023. Dive into the world of exquisite wines at the beautiful outdoor paved area in front of San Lorenzo near the North BBQ. \nTwo Sessions for Caribbean Park:\n12pm – 1:30pm & 4:30pm – 6pm \nExperience the privilege of tasting 5-6 wines from the acclaimed Grand Cru selection\, each expertly paired with a handpicked cheese to elevate your palate. As the velvety notes of the wine mix with the creaminess of the cheese\, you’ll understand why they’re a match made in heaven. \nAnd for those of you who fall in love with the unique aromas and flavours? Grand Cru will have some Wine Gift Packs available for purchase during the event. An ideal gift for loved ones\, or perhaps a delightful treat for yourself. \nBest of all? This is a FREE event brought to you by Caribbean Park and Grand Cru Wines! Yes\, you read that right. An afternoon of opulence\, elegance\, and flavour awaits you. \n🍇 Join us and immerse yourself in a world where wine and cheese dance in perfect harmony. 🧀
URL:https://mycaribbeanpark.com/event/grand-cru-wine-tasting-2/
CATEGORIES:Caribbean Park,Event,San Lorenzo
ATTACH;FMTTYPE=:
END:VEVENT
END:VCALENDAR