BEGIN:VCALENDAR
VERSION:2.0
PRODID:-//My Caribbean Park - ECPv6.15.20//NONSGML v1.0//EN
CALSCALE:GREGORIAN
METHOD:PUBLISH
X-WR-CALNAME:My Caribbean Park
X-ORIGINAL-URL:https://mycaribbeanpark.com
X-WR-CALDESC:Events for My Caribbean Park
REFRESH-INTERVAL;VALUE=DURATION:PT1H
X-Robots-Tag:noindex
X-PUBLISHED-TTL:PT1H
BEGIN:VTIMEZONE
TZID:UTC
BEGIN:STANDARD
TZOFFSETFROM:+0000
TZOFFSETTO:+0000
TZNAME:UTC
DTSTART:20250101T000000
END:STANDARD
END:VTIMEZONE
BEGIN:VEVENT
DTSTART;TZID=UTC:20260430T090000
DTEND;TZID=UTC:20260501T173000
DTSTAMP:20260422T052603
CREATED:20260422T013413Z
LAST-MODIFIED:20260422T014503Z
UID:18674-1777539600-1777656600@mycaribbeanpark.com
SUMMARY:Hallmark Cards - Huge Car Park Sale
DESCRIPTION:Don’t Miss the Hallmark & Crayola Car Park Sale! 🎉 \nGet ready for huge savings at the Hallmark & Crayola Car Park Sale\, happening for two days only! Enjoy up to 90% off RRP on a fantastic range of greeting cards\, gift wrap\, plush toys\, and more. \n🛍️ Thursday 30th April – 9 AM to 5:30 PM🛍️ Friday 1st May – 9 AM to 5:30 PM \nHallmark Cards Head Office1 Lakeview Drive\, Scoresby (Undercover Car Park)
URL:https://mycaribbeanpark.com/event/hallmark-cards-huge-car-park-sale-2/
LOCATION:Hallmark\, 10 Caribbean Drive\, Scoresby\, VIC\, 3179\, Australia
CATEGORIES:Caribbean Park,Event
ATTACH;FMTTYPE=image/png:https://mycaribbeanpark.com/wp-content/uploads/2025/03/Hallmark.png
END:VEVENT
END:VCALENDAR