BEGIN:VCALENDAR
VERSION:2.0
PRODID:-//My Caribbean Park - ECPv6.15.20//NONSGML v1.0//EN
CALSCALE:GREGORIAN
METHOD:PUBLISH
X-WR-CALNAME:My Caribbean Park
X-ORIGINAL-URL:https://mycaribbeanpark.com
X-WR-CALDESC:Events for My Caribbean Park
REFRESH-INTERVAL;VALUE=DURATION:PT1H
X-Robots-Tag:noindex
X-PUBLISHED-TTL:PT1H
BEGIN:VTIMEZONE
TZID:Australia/Melbourne
BEGIN:STANDARD
TZOFFSETFROM:+1100
TZOFFSETTO:+1000
TZNAME:AEST
DTSTART:20210403T160000
END:STANDARD
BEGIN:DAYLIGHT
TZOFFSETFROM:+1000
TZOFFSETTO:+1100
TZNAME:AEDT
DTSTART:20211002T160000
END:DAYLIGHT
BEGIN:STANDARD
TZOFFSETFROM:+1100
TZOFFSETTO:+1000
TZNAME:AEST
DTSTART:20220402T160000
END:STANDARD
BEGIN:DAYLIGHT
TZOFFSETFROM:+1000
TZOFFSETTO:+1100
TZNAME:AEDT
DTSTART:20221001T160000
END:DAYLIGHT
BEGIN:STANDARD
TZOFFSETFROM:+1100
TZOFFSETTO:+1000
TZNAME:AEST
DTSTART:20230401T160000
END:STANDARD
BEGIN:DAYLIGHT
TZOFFSETFROM:+1000
TZOFFSETTO:+1100
TZNAME:AEDT
DTSTART:20230930T160000
END:DAYLIGHT
END:VTIMEZONE
BEGIN:VEVENT
DTSTART;VALUE=DATE:20220214
DTEND;VALUE=DATE:20220215
DTSTAMP:20260424T233425
CREATED:20220209T143053Z
LAST-MODIFIED:20220209T143053Z
UID:6043-1644796800-1644883199@mycaribbeanpark.com
SUMMARY:Hyatt Place Melbourne Caribbean Park - Valentines Special
DESCRIPTION:Celebrate Valentine’s Day this year at Archie’s Farm Restaurant & bar\, your new favourite place.\n\n\n\nHere we unite warm\, friendly service with deliciously fresh\, seasonal produce and the finest Victorian and Australian wine. \nYou will enjoy a thoughtfully sourced\, cleverly curated menu that has something for everyone\, with farm-to-table style dining that will deliver a flavour forward. \nWhether you are celebrating this special day with your loved one or a night out with your friends\, our Valentine’s Day Menu paired with a wine-tasting experience will make it a memorable night for all. \n\n\n\n\n\n\n\n\n\nTo make your reservation\, call us on (03) 4137 1234 or email caribbeanpark.archies@hyatt.com
URL:https://mycaribbeanpark.com/event/hyatt-place-melbourne-caribbean-park-career-open-day-2-2/
CATEGORIES:Caribbean Park,Event,Hyatt Place
ATTACH;FMTTYPE=:
END:VEVENT
END:VCALENDAR