BEGIN:VCALENDAR
VERSION:2.0
PRODID:-//My Caribbean Park - ECPv6.15.20//NONSGML v1.0//EN
CALSCALE:GREGORIAN
METHOD:PUBLISH
X-WR-CALNAME:My Caribbean Park
X-ORIGINAL-URL:https://mycaribbeanpark.com
X-WR-CALDESC:Events for My Caribbean Park
REFRESH-INTERVAL;VALUE=DURATION:PT1H
X-Robots-Tag:noindex
X-PUBLISHED-TTL:PT1H
BEGIN:VTIMEZONE
TZID:Australia/Melbourne
BEGIN:STANDARD
TZOFFSETFROM:+1100
TZOFFSETTO:+1000
TZNAME:AEST
DTSTART:20210403T160000
END:STANDARD
BEGIN:DAYLIGHT
TZOFFSETFROM:+1000
TZOFFSETTO:+1100
TZNAME:AEDT
DTSTART:20211002T160000
END:DAYLIGHT
BEGIN:STANDARD
TZOFFSETFROM:+1100
TZOFFSETTO:+1000
TZNAME:AEST
DTSTART:20220402T160000
END:STANDARD
BEGIN:DAYLIGHT
TZOFFSETFROM:+1000
TZOFFSETTO:+1100
TZNAME:AEDT
DTSTART:20221001T160000
END:DAYLIGHT
BEGIN:STANDARD
TZOFFSETFROM:+1100
TZOFFSETTO:+1000
TZNAME:AEST
DTSTART:20230401T160000
END:STANDARD
BEGIN:DAYLIGHT
TZOFFSETFROM:+1000
TZOFFSETTO:+1100
TZNAME:AEDT
DTSTART:20230930T160000
END:DAYLIGHT
END:VTIMEZONE
BEGIN:VEVENT
DTSTART;TZID=Australia/Melbourne:20220413T083000
DTEND;TZID=Australia/Melbourne:20220413T120000
DTSTAMP:20260424T214435
CREATED:20220406T094352Z
LAST-MODIFIED:20220406T094352Z
UID:6208-1649838600-1649851200@mycaribbeanpark.com
SUMMARY:Hyatt Place Melbourne Caribbean Park - Careers Open Day
DESCRIPTION:This is an incredible opportunity to be a part of Scoresby’s newest hotel.\nDate: Wednesday 13th April 2022\nTime: Registration 8.30am. Session Time 9.00am to 12.00pm\nVenue: Hyatt Place Melbourne Caribbean Park\, 38 Dalmore Drive\, Scoresby VIC\nRoles available include Food & Beverage Supervisors and Attendants\, Casual Kitchen Chefs and Stewards\, Housekeeping Attendants\, Event Sales & Planning Executive and Finance Manager.\n• No registrations are required to attend the event\n• Please bring a copy of your resume and identification on the day\n• No prior experience is required for some positions; just bring a positive attitude and willingness to work for a new\, epic hotel with a local community spirit.\n• RSA and computer skills are required for some positions\, but not all\n• Same day hire available\n• In-house training will be provided\nRSVP to this event Facebook Event\nFor further information on the hotel please visit www.hyattplacemelbournecaribbeanpark.com
URL:https://mycaribbeanpark.com/event/hyatt-place-melbourne-caribbean-park-careers-open-day/
ATTACH;FMTTYPE=:
END:VEVENT
END:VCALENDAR