BEGIN:VCALENDAR
VERSION:2.0
PRODID:-//My Caribbean Park - ECPv6.15.20//NONSGML v1.0//EN
CALSCALE:GREGORIAN
METHOD:PUBLISH
X-WR-CALNAME:My Caribbean Park
X-ORIGINAL-URL:https://mycaribbeanpark.com
X-WR-CALDESC:Events for My Caribbean Park
REFRESH-INTERVAL;VALUE=DURATION:PT1H
X-Robots-Tag:noindex
X-PUBLISHED-TTL:PT1H
BEGIN:VTIMEZONE
TZID:Australia/Melbourne
BEGIN:STANDARD
TZOFFSETFROM:+1100
TZOFFSETTO:+1000
TZNAME:AEST
DTSTART:20230401T160000
END:STANDARD
BEGIN:DAYLIGHT
TZOFFSETFROM:+1000
TZOFFSETTO:+1100
TZNAME:AEDT
DTSTART:20230930T160000
END:DAYLIGHT
BEGIN:STANDARD
TZOFFSETFROM:+1100
TZOFFSETTO:+1000
TZNAME:AEST
DTSTART:20240406T160000
END:STANDARD
BEGIN:DAYLIGHT
TZOFFSETFROM:+1000
TZOFFSETTO:+1100
TZNAME:AEDT
DTSTART:20241005T160000
END:DAYLIGHT
BEGIN:STANDARD
TZOFFSETFROM:+1100
TZOFFSETTO:+1000
TZNAME:AEST
DTSTART:20250405T160000
END:STANDARD
BEGIN:DAYLIGHT
TZOFFSETFROM:+1000
TZOFFSETTO:+1100
TZNAME:AEDT
DTSTART:20251004T160000
END:DAYLIGHT
END:VTIMEZONE
BEGIN:VEVENT
DTSTART;VALUE=DATE:20240930
DTEND;VALUE=DATE:20241101
DTSTAMP:20260421T010624
CREATED:20240923T151645Z
LAST-MODIFIED:20240923T151645Z
UID:15536-1727654400-1730419199@mycaribbeanpark.com
SUMMARY:Hyatt Place Melbourne Caribbean Park Pizza Special
DESCRIPTION:Pizza & Wine Weekday Lunch Special: \nIndulge in the ultimate culinary experience with our delicious pizza and wine special at $35. Enjoy one of our three curated gourmet pizzas to share with two glasses of house wines\, offering the ideal balance of flavours to elevate your meal. Gather your colleagues or loved ones and join us for an afternoon of great food\, fine wine\, and unforgettable moments. This offer is valid for weekday lunch only. \n 
URL:https://mycaribbeanpark.com/event/hyatt-place-melbourne-caribbean-park-specials/
CATEGORIES:Event,Hyatt Place
END:VEVENT
END:VCALENDAR