BEGIN:VCALENDAR
VERSION:2.0
PRODID:-//My Caribbean Park - ECPv6.15.20//NONSGML v1.0//EN
CALSCALE:GREGORIAN
METHOD:PUBLISH
X-WR-CALNAME:My Caribbean Park
X-ORIGINAL-URL:https://mycaribbeanpark.com
X-WR-CALDESC:Events for My Caribbean Park
REFRESH-INTERVAL;VALUE=DURATION:PT1H
X-Robots-Tag:noindex
X-PUBLISHED-TTL:PT1H
BEGIN:VTIMEZONE
TZID:Australia/Melbourne
BEGIN:STANDARD
TZOFFSETFROM:+1100
TZOFFSETTO:+1000
TZNAME:AEST
DTSTART:20230401T160000
END:STANDARD
BEGIN:DAYLIGHT
TZOFFSETFROM:+1000
TZOFFSETTO:+1100
TZNAME:AEDT
DTSTART:20230930T160000
END:DAYLIGHT
BEGIN:STANDARD
TZOFFSETFROM:+1100
TZOFFSETTO:+1000
TZNAME:AEST
DTSTART:20240406T160000
END:STANDARD
BEGIN:DAYLIGHT
TZOFFSETFROM:+1000
TZOFFSETTO:+1100
TZNAME:AEDT
DTSTART:20241005T160000
END:DAYLIGHT
BEGIN:STANDARD
TZOFFSETFROM:+1100
TZOFFSETTO:+1000
TZNAME:AEST
DTSTART:20250405T160000
END:STANDARD
BEGIN:DAYLIGHT
TZOFFSETFROM:+1000
TZOFFSETTO:+1100
TZNAME:AEDT
DTSTART:20251004T160000
END:DAYLIGHT
END:VTIMEZONE
BEGIN:VEVENT
DTSTART;TZID=Australia/Melbourne:20240901T070000
DTEND;TZID=Australia/Melbourne:20240901T150000
DTSTAMP:20260424T021658
CREATED:20240731T122451Z
LAST-MODIFIED:20240731T122451Z
UID:15078-1725174000-1725202800@mycaribbeanpark.com
SUMMARY:Father's Day at Archie's Farm Restaurant & Bar
DESCRIPTION:Father’s Day at Archie’s Farm Restaurant & Bar \nSunday 1st September 2024\nBuffet Breakfast \n7:00am – 11:00am \n$49 for adult | $39 for senior | $25 for child (aged 5 to 12 years) \n3-Course Shared Style Lunch with a Welcome Drink \n12:00pm – 3:00pm \n$95 for adult | $85 for senior | $50 for child (aged 5 to 12 years) \nBookings: https://www.hyatt.com/hyatt-place/en-US/melzc-hyatt-place-melbourne-caribbean-park/dining \n 
URL:https://mycaribbeanpark.com/event/hyattfathersday/
CATEGORIES:Event,Hyatt Place
END:VEVENT
END:VCALENDAR