BEGIN:VCALENDAR
VERSION:2.0
PRODID:-//My Caribbean Park - ECPv6.15.20//NONSGML v1.0//EN
CALSCALE:GREGORIAN
METHOD:PUBLISH
X-WR-CALNAME:My Caribbean Park
X-ORIGINAL-URL:https://mycaribbeanpark.com
X-WR-CALDESC:Events for My Caribbean Park
REFRESH-INTERVAL;VALUE=DURATION:PT1H
X-Robots-Tag:noindex
X-PUBLISHED-TTL:PT1H
BEGIN:VTIMEZONE
TZID:Australia/Melbourne
BEGIN:STANDARD
TZOFFSETFROM:+1100
TZOFFSETTO:+1000
TZNAME:AEST
DTSTART:20210403T160000
END:STANDARD
BEGIN:DAYLIGHT
TZOFFSETFROM:+1000
TZOFFSETTO:+1100
TZNAME:AEDT
DTSTART:20211002T160000
END:DAYLIGHT
BEGIN:STANDARD
TZOFFSETFROM:+1100
TZOFFSETTO:+1000
TZNAME:AEST
DTSTART:20220402T160000
END:STANDARD
BEGIN:DAYLIGHT
TZOFFSETFROM:+1000
TZOFFSETTO:+1100
TZNAME:AEDT
DTSTART:20221001T160000
END:DAYLIGHT
BEGIN:STANDARD
TZOFFSETFROM:+1100
TZOFFSETTO:+1000
TZNAME:AEST
DTSTART:20230401T160000
END:STANDARD
BEGIN:DAYLIGHT
TZOFFSETFROM:+1000
TZOFFSETTO:+1100
TZNAME:AEDT
DTSTART:20230930T160000
END:DAYLIGHT
END:VTIMEZONE
BEGIN:VEVENT
DTSTART;TZID=Australia/Melbourne:20220308T120000
DTEND;TZID=Australia/Melbourne:20220308T140000
DTSTAMP:20260424T180651
CREATED:20220303T095447Z
LAST-MODIFIED:20220303T095447Z
UID:6102-1646740800-1646748000@mycaribbeanpark.com
SUMMARY:International Women's Day
DESCRIPTION:International Women’s Day (IWD) provides a key moment to celebrate women’s achievements in the workplace and showcase employer initiatives and support. \nTo celebrate your return to Caribbean Park and to acknowledge women in the workforce\, we’d like to brighten your day with a little gift of flowers perfect for your desk. (Gifts available until stock runs out.) \nFind us on the podium outside the Middleman Cafe. \nTuesday March 8th 2022 \n12pm – 2pm \nIndividuals and organisations are invited to take a photo at Caribbean Park and post an image to instagram tagging @caribbean_community with the #BreakTheBias to connect with the official IWD organisation who will be sharing some of the best images from around the world in the lead up to International Women’s Day 2022.
URL:https://mycaribbeanpark.com/event/international-womens-day/
ATTACH;FMTTYPE=:
END:VEVENT
END:VCALENDAR