BEGIN:VCALENDAR
VERSION:2.0
PRODID:-//My Caribbean Park - ECPv6.15.20//NONSGML v1.0//EN
CALSCALE:GREGORIAN
METHOD:PUBLISH
X-WR-CALNAME:My Caribbean Park
X-ORIGINAL-URL:https://mycaribbeanpark.com
X-WR-CALDESC:Events for My Caribbean Park
REFRESH-INTERVAL;VALUE=DURATION:PT1H
X-Robots-Tag:noindex
X-PUBLISHED-TTL:PT1H
BEGIN:VTIMEZONE
TZID:Australia/Melbourne
BEGIN:STANDARD
TZOFFSETFROM:+1100
TZOFFSETTO:+1000
TZNAME:AEST
DTSTART:20230401T160000
END:STANDARD
BEGIN:DAYLIGHT
TZOFFSETFROM:+1000
TZOFFSETTO:+1100
TZNAME:AEDT
DTSTART:20230930T160000
END:DAYLIGHT
BEGIN:STANDARD
TZOFFSETFROM:+1100
TZOFFSETTO:+1000
TZNAME:AEST
DTSTART:20240406T160000
END:STANDARD
BEGIN:DAYLIGHT
TZOFFSETFROM:+1000
TZOFFSETTO:+1100
TZNAME:AEDT
DTSTART:20241005T160000
END:DAYLIGHT
BEGIN:STANDARD
TZOFFSETFROM:+1100
TZOFFSETTO:+1000
TZNAME:AEST
DTSTART:20250405T160000
END:STANDARD
BEGIN:DAYLIGHT
TZOFFSETFROM:+1000
TZOFFSETTO:+1100
TZNAME:AEDT
DTSTART:20251004T160000
END:DAYLIGHT
END:VTIMEZONE
BEGIN:VEVENT
DTSTART;TZID=Australia/Melbourne:20240314T120000
DTEND;TZID=Australia/Melbourne:20240314T180000
DTSTAMP:20260424T054916
CREATED:20240226T161754Z
LAST-MODIFIED:20240226T161754Z
UID:9707-1710417600-1710439200@mycaribbeanpark.com
SUMMARY:Irish Pub & Free Sausage Sizzle at Caribbean Park
DESCRIPTION:The luck of the Irish and all things green are celebrated on St. Patrick’s Day\, which were are getting into the spirit of it early this year!. Initially\, a day to honor St. Patrick\, the patron saint of Ireland\, over time the holiday has evolved into a fun and festive celebration of Irish culture. \nCome and enjoy an authentic Irish Pub Experience in the beautifully landscaped setting at Caribbean Park. Not every day you get a pop up Irish Pub grace your work day.\nWe’ve also added a FREE sausage sizzle courtesy of Hyatt Place Caribbean Park with their head chef behind the BBQ. \nRSVP NOW! https://www.surveymonkey.com/r/XLD57VR \n35-37 Dalmore Drive\, Caribbean Park. \nLook for the Irish Pub – Below \nThursday 14th March 2024 \nFrom 12pm (until sausages run out).  \nParking: Visitors please use the the Public Parking entrance at 31 Dalmore Drive you will need a physical credit card (first 3 hours are FREE but you still need to tap on to get in.) \nThere is no charge for this event\, however\, RSVP for your chance to win a FREE drink as well as the grand prize of one nights accommodation at the beautiful Hyatt Place Melbourne Caribbean Park – T&Cs apply.
URL:https://mycaribbeanpark.com/event/irishpub-2/
CATEGORIES:Caribbean Park,Event
END:VEVENT
END:VCALENDAR