BEGIN:VCALENDAR
VERSION:2.0
PRODID:-//My Caribbean Park - ECPv6.15.20//NONSGML v1.0//EN
CALSCALE:GREGORIAN
METHOD:PUBLISH
X-WR-CALNAME:My Caribbean Park
X-ORIGINAL-URL:https://mycaribbeanpark.com
X-WR-CALDESC:Events for My Caribbean Park
REFRESH-INTERVAL;VALUE=DURATION:PT1H
X-Robots-Tag:noindex
X-PUBLISHED-TTL:PT1H
BEGIN:VTIMEZONE
TZID:Australia/Melbourne
BEGIN:STANDARD
TZOFFSETFROM:+1100
TZOFFSETTO:+1000
TZNAME:AEST
DTSTART:20190406T160000
END:STANDARD
BEGIN:DAYLIGHT
TZOFFSETFROM:+1000
TZOFFSETTO:+1100
TZNAME:AEDT
DTSTART:20191005T160000
END:DAYLIGHT
BEGIN:STANDARD
TZOFFSETFROM:+1100
TZOFFSETTO:+1000
TZNAME:AEST
DTSTART:20200404T160000
END:STANDARD
BEGIN:DAYLIGHT
TZOFFSETFROM:+1000
TZOFFSETTO:+1100
TZNAME:AEDT
DTSTART:20201003T160000
END:DAYLIGHT
BEGIN:STANDARD
TZOFFSETFROM:+1100
TZOFFSETTO:+1000
TZNAME:AEST
DTSTART:20210403T160000
END:STANDARD
BEGIN:DAYLIGHT
TZOFFSETFROM:+1000
TZOFFSETTO:+1100
TZNAME:AEDT
DTSTART:20211002T160000
END:DAYLIGHT
END:VTIMEZONE
BEGIN:VEVENT
DTSTART;TZID=Australia/Melbourne:20200506T120000
DTEND;TZID=Australia/Melbourne:20200506T130000
DTSTAMP:20260424T214539
CREATED:20200421T152504Z
LAST-MODIFIED:20200421T152504Z
UID:4912-1588766400-1588770000@mycaribbeanpark.com
SUMMARY:Mindfully managing you mental health during the Corona-crisis
DESCRIPTION:Pinnacle Wellness are offering all businesses and staff that reside in Caribbean Park the opportunity to a Mindfulness Workshop designed specifically for mindful managing your mental health during the Corona-crisis. \nPinnacle Wellness has engaged an expert Instructor: Richard. \n“Richard is a respected psychological wellbeing speaker\, trainer and facilitator. He regularly speaks on organisational wellbeing at conference\, in business all over Australia as well as teaching at the University of Melbourne. He is known for his approachable and engaging style.” \n——— \nWhy attend? Attendees will learn about: \n• Managing stress and anxiety\n• Building resilience and handle the unexpected\n• Tips for more effective remote learning\nYou will also receive a simple 1-page overview to help you apply what you learn\nSession content overview: \n1) Intro & Wellbeing basics: essential ingredients for wellbeing during lockdown.\n2) Introduction to mindfulness\n• The what and why of mindfulness\n• Mindful practice x 1\n3) Tips for effective remote working\n4) Wrap-up: habit plan for bringing it into the real world.\n\nBook this fantastic workshop for FREE at www.pinnaclewellness.com.au\nOnce booked – Participants will receive a zoom link before the session.
URL:https://mycaribbeanpark.com/event/mindfully-managing-you-mental-health-during-the-corona-crisis/
CATEGORIES:Event
ATTACH;FMTTYPE=:
END:VEVENT
END:VCALENDAR