BEGIN:VCALENDAR
VERSION:2.0
PRODID:-//My Caribbean Park - ECPv6.15.20//NONSGML v1.0//EN
CALSCALE:GREGORIAN
METHOD:PUBLISH
X-WR-CALNAME:My Caribbean Park
X-ORIGINAL-URL:https://mycaribbeanpark.com
X-WR-CALDESC:Events for My Caribbean Park
REFRESH-INTERVAL;VALUE=DURATION:PT1H
X-Robots-Tag:noindex
X-PUBLISHED-TTL:PT1H
BEGIN:VTIMEZONE
TZID:Australia/Melbourne
BEGIN:STANDARD
TZOFFSETFROM:+1100
TZOFFSETTO:+1000
TZNAME:AEST
DTSTART:20200404T160000
END:STANDARD
BEGIN:DAYLIGHT
TZOFFSETFROM:+1000
TZOFFSETTO:+1100
TZNAME:AEDT
DTSTART:20201003T160000
END:DAYLIGHT
BEGIN:STANDARD
TZOFFSETFROM:+1100
TZOFFSETTO:+1000
TZNAME:AEST
DTSTART:20210403T160000
END:STANDARD
BEGIN:DAYLIGHT
TZOFFSETFROM:+1000
TZOFFSETTO:+1100
TZNAME:AEDT
DTSTART:20211002T160000
END:DAYLIGHT
BEGIN:STANDARD
TZOFFSETFROM:+1100
TZOFFSETTO:+1000
TZNAME:AEST
DTSTART:20220402T160000
END:STANDARD
BEGIN:DAYLIGHT
TZOFFSETFROM:+1000
TZOFFSETTO:+1100
TZNAME:AEDT
DTSTART:20221001T160000
END:DAYLIGHT
END:VTIMEZONE
BEGIN:VEVENT
DTSTART;TZID=Australia/Melbourne:20210507T123000
DTEND;TZID=Australia/Melbourne:20210507T133000
DTSTAMP:20260425T030026
CREATED:20210503T225637Z
LAST-MODIFIED:20210503T225637Z
UID:5511-1620390600-1620394200@mycaribbeanpark.com
SUMMARY:Mother's Day Gift 2021
DESCRIPTION:Mums are all different and that’s worth celebrating. We’d like to take this opportunity to recognise all the hard-working mums throughout Caribbean Park. \nWe appreciate you and wish you a wonderful and happy Mother’s Day.\nTo celebrate Mother’s Day – we are giving away a small yet lovely gift to the first 120 Mums working Friday!\nSimply be one of the first 120 mums to come down to the podium behind Middleman Café at lunch time Friday 7th May. \nLook out for the large heart!
URL:https://mycaribbeanpark.com/event/mothers-day-gift-2/
CATEGORIES:Caribbean Park,Event
ATTACH;FMTTYPE=:
END:VEVENT
END:VCALENDAR