BEGIN:VCALENDAR
VERSION:2.0
PRODID:-//My Caribbean Park - ECPv6.15.20//NONSGML v1.0//EN
CALSCALE:GREGORIAN
METHOD:PUBLISH
X-WR-CALNAME:My Caribbean Park
X-ORIGINAL-URL:https://mycaribbeanpark.com
X-WR-CALDESC:Events for My Caribbean Park
REFRESH-INTERVAL;VALUE=DURATION:PT1H
X-Robots-Tag:noindex
X-PUBLISHED-TTL:PT1H
BEGIN:VTIMEZONE
TZID:Australia/Melbourne
BEGIN:STANDARD
TZOFFSETFROM:+1100
TZOFFSETTO:+1000
TZNAME:AEST
DTSTART:20180331T160000
END:STANDARD
BEGIN:DAYLIGHT
TZOFFSETFROM:+1000
TZOFFSETTO:+1100
TZNAME:AEDT
DTSTART:20181006T160000
END:DAYLIGHT
BEGIN:STANDARD
TZOFFSETFROM:+1100
TZOFFSETTO:+1000
TZNAME:AEST
DTSTART:20190406T160000
END:STANDARD
BEGIN:DAYLIGHT
TZOFFSETFROM:+1000
TZOFFSETTO:+1100
TZNAME:AEDT
DTSTART:20191005T160000
END:DAYLIGHT
BEGIN:STANDARD
TZOFFSETFROM:+1100
TZOFFSETTO:+1000
TZNAME:AEST
DTSTART:20200404T160000
END:STANDARD
BEGIN:DAYLIGHT
TZOFFSETFROM:+1000
TZOFFSETTO:+1100
TZNAME:AEDT
DTSTART:20201003T160000
END:DAYLIGHT
END:VTIMEZONE
BEGIN:VEVENT
DTSTART;TZID=Australia/Melbourne:20190614T110000
DTEND;TZID=Australia/Melbourne:20190614T130000
DTSTAMP:20260420T113627
CREATED:20190530T143239Z
LAST-MODIFIED:20190530T143239Z
UID:3995-1560510000-1560517200@mycaribbeanpark.com
SUMMARY:NBA Basketball Finals Screening
DESCRIPTION:We love sport and excited that the NBA Finals are on! \nCome and join our NBA screening for the finals series. \nGAME 1: Friday 31st May 11am – Complete Toronto 118 d. Golden State 109 \nGAME 2: Monday 3rd June 10am – Complete  Golden State 109 d. Toronto 104 \nGAME 3: Thursday 6th June 11am – Complete Toronto 123 d. Golden State 109 \nGAME 4: Saturday no screening. – Complete Toronto 105 d. Golden State 92 \nGAME 5: Tuesday 11th June 11am – Complete Golden State 106 d. Toronto 105 \nGAME 6: Friday 14th June 11am \nGAME 7: If required 10am. \nWe were hoping the weather would be kind to us to host it outside on the podium however\, we will be hosting it in the warmth of the foyer at 42 Lakeview Drive. \nPlease feel free to come and watch! #caribbeanpark \nThere are prizes to win and our friends at South East Melbourne Phoenix will be happy to introduce you to the newest NBL franchise! \nTo enter the draw please following this link https://www.surveymonkey.com/r/WNPNLR2
URL:https://mycaribbeanpark.com/event/nba-basketball-finals-screening/
CATEGORIES:Event
ATTACH;FMTTYPE=:
END:VEVENT
END:VCALENDAR