BEGIN:VCALENDAR
VERSION:2.0
PRODID:-//My Caribbean Park - ECPv6.15.20//NONSGML v1.0//EN
CALSCALE:GREGORIAN
METHOD:PUBLISH
X-WR-CALNAME:My Caribbean Park
X-ORIGINAL-URL:https://mycaribbeanpark.com
X-WR-CALDESC:Events for My Caribbean Park
REFRESH-INTERVAL;VALUE=DURATION:PT1H
X-Robots-Tag:noindex
X-PUBLISHED-TTL:PT1H
BEGIN:VTIMEZONE
TZID:Australia/Melbourne
BEGIN:STANDARD
TZOFFSETFROM:+1100
TZOFFSETTO:+1000
TZNAME:AEST
DTSTART:20230401T160000
END:STANDARD
BEGIN:DAYLIGHT
TZOFFSETFROM:+1000
TZOFFSETTO:+1100
TZNAME:AEDT
DTSTART:20230930T160000
END:DAYLIGHT
BEGIN:STANDARD
TZOFFSETFROM:+1100
TZOFFSETTO:+1000
TZNAME:AEST
DTSTART:20240406T160000
END:STANDARD
BEGIN:DAYLIGHT
TZOFFSETFROM:+1000
TZOFFSETTO:+1100
TZNAME:AEDT
DTSTART:20241005T160000
END:DAYLIGHT
BEGIN:STANDARD
TZOFFSETFROM:+1100
TZOFFSETTO:+1000
TZNAME:AEST
DTSTART:20250405T160000
END:STANDARD
BEGIN:DAYLIGHT
TZOFFSETFROM:+1000
TZOFFSETTO:+1100
TZNAME:AEDT
DTSTART:20251004T160000
END:DAYLIGHT
END:VTIMEZONE
BEGIN:VEVENT
DTSTART;VALUE=DATE:20240809
DTEND;VALUE=DATE:20240812
DTSTAMP:20260424T004703
CREATED:20240719T111659Z
LAST-MODIFIED:20240719T111659Z
UID:15019-1723161600-1723420799@mycaribbeanpark.com
SUMMARY:The Melbourne Outdoor Living and Caravan Expo - FREE FRIDAY TICKETS!
DESCRIPTION:IT IS BACK & BIGGER THAN EVER!\nThe Melbourne Outdoor Living and Caravan Expo is returning to Caribbean Park\, firing up for three huge days\, Friday 9th to 11th August 2024. \nBack better than ever\, you are in for a real treat. This much-anticipated event is your gateway to discovering the latest in outdoor living and caravan innovations\, all conveniently located right at your fingertips! \nCovering all things caravans\, camper trailers\, motorhomes\, camping and stacks of accessories\, PLUS free kids activities\, live entertainment and demonstrations\, food truck and more.. it’s the perfect day out for the whole family. \nCaribbean Park community members are welcome to FREE entry for FRIDAY (only Friday). All you will need to do is head to the ticket desk and state where you work within the park\, and this will grant you access to the event. \nJust another perk of working at Caribbean Park\, ENJOY! \n  \n \n\nOver 100 Caravan\, Camping and Accessories Brands\nEvent Central at Caribbean Park\nFree Car Parking\nDogs are welcome\, and encouraged\n\nFor more information on the event follow this link – https://outdoorlivingcaravanexpo.com.au/melbourne/
URL:https://mycaribbeanpark.com/event/outdoorlivingandcaravanexpo/
CATEGORIES:Event
END:VEVENT
END:VCALENDAR