BEGIN:VCALENDAR
VERSION:2.0
PRODID:-//My Caribbean Park - ECPv6.15.20//NONSGML v1.0//EN
CALSCALE:GREGORIAN
METHOD:PUBLISH
X-WR-CALNAME:My Caribbean Park
X-ORIGINAL-URL:https://mycaribbeanpark.com
X-WR-CALDESC:Events for My Caribbean Park
REFRESH-INTERVAL;VALUE=DURATION:PT1H
X-Robots-Tag:noindex
X-PUBLISHED-TTL:PT1H
BEGIN:VTIMEZONE
TZID:Australia/Melbourne
BEGIN:STANDARD
TZOFFSETFROM:+1100
TZOFFSETTO:+1000
TZNAME:AEST
DTSTART:20230401T160000
END:STANDARD
BEGIN:DAYLIGHT
TZOFFSETFROM:+1000
TZOFFSETTO:+1100
TZNAME:AEDT
DTSTART:20230930T160000
END:DAYLIGHT
BEGIN:STANDARD
TZOFFSETFROM:+1100
TZOFFSETTO:+1000
TZNAME:AEST
DTSTART:20240406T160000
END:STANDARD
BEGIN:DAYLIGHT
TZOFFSETFROM:+1000
TZOFFSETTO:+1100
TZNAME:AEDT
DTSTART:20241005T160000
END:DAYLIGHT
BEGIN:STANDARD
TZOFFSETFROM:+1100
TZOFFSETTO:+1000
TZNAME:AEST
DTSTART:20250405T160000
END:STANDARD
BEGIN:DAYLIGHT
TZOFFSETFROM:+1000
TZOFFSETTO:+1100
TZNAME:AEDT
DTSTART:20251004T160000
END:DAYLIGHT
END:VTIMEZONE
BEGIN:VEVENT
DTSTART;VALUE=DATE:20240420
DTEND;VALUE=DATE:20240421
DTSTAMP:20260424T041346
CREATED:20240222T141535Z
LAST-MODIFIED:20240222T141535Z
UID:9803-1713571200-1713657599@mycaribbeanpark.com
SUMMARY:Pandemonium Festival
DESCRIPTION:EXCLUSIVE CARIBBEAN PARK SPECIAL\n\nThe great team at Pandemonium Festival have offered our Caribbean Park community a special discount!\nThey’d like to offer specially priced GA tickets to us.  \nPlease click the link below to find the dedicated Caribbean Park tickets link (prefilled with code cpmember). \nhttps://tickets.pandemonium.rocks/outlet/event/5fcfde42-2a58-40dc-9026-c03dacffbf6f?accessCode=cpmember \nLimited number supplied to Caribbean Park!\n______ \n  \nPandemonium Rocks\, Australia’s newest music festival delivers the soundtrack to our lives with some of the most iconic acts in rock and roll! Join the movement and be a part of rock n roll history as Pandemonium festival sweeps across Australia’s east coast this April and descends on Caribbean Park\, Saturday 20 April\, 2024! \nPandemonium is a rock fans dream come true\, with an unparalleled line-up of rock legends including Alice Cooper\, Blondie\, Wheatus\, The Psychedelic Furs\, Palaye Royale plus Australian icons Wolfmother and Cosmic Psychos \nYou know the bands\, you know the songs. Pandemonium gives you the opportunity to experience some of the worlds’ greatest bands – all in one day and night of incredible rock and roll!  \n 
URL:https://mycaribbeanpark.com/event/pandemonium/
CATEGORIES:Event
END:VEVENT
END:VCALENDAR