BEGIN:VCALENDAR
VERSION:2.0
PRODID:-//My Caribbean Park - ECPv6.15.20//NONSGML v1.0//EN
CALSCALE:GREGORIAN
METHOD:PUBLISH
X-WR-CALNAME:My Caribbean Park
X-ORIGINAL-URL:https://mycaribbeanpark.com
X-WR-CALDESC:Events for My Caribbean Park
REFRESH-INTERVAL;VALUE=DURATION:PT1H
X-Robots-Tag:noindex
X-PUBLISHED-TTL:PT1H
BEGIN:VTIMEZONE
TZID:Australia/Melbourne
BEGIN:STANDARD
TZOFFSETFROM:+1100
TZOFFSETTO:+1000
TZNAME:AEST
DTSTART:20220402T160000
END:STANDARD
BEGIN:DAYLIGHT
TZOFFSETFROM:+1000
TZOFFSETTO:+1100
TZNAME:AEDT
DTSTART:20221001T160000
END:DAYLIGHT
BEGIN:STANDARD
TZOFFSETFROM:+1100
TZOFFSETTO:+1000
TZNAME:AEST
DTSTART:20230401T160000
END:STANDARD
BEGIN:DAYLIGHT
TZOFFSETFROM:+1000
TZOFFSETTO:+1100
TZNAME:AEDT
DTSTART:20230930T160000
END:DAYLIGHT
BEGIN:STANDARD
TZOFFSETFROM:+1100
TZOFFSETTO:+1000
TZNAME:AEST
DTSTART:20240406T160000
END:STANDARD
BEGIN:DAYLIGHT
TZOFFSETFROM:+1000
TZOFFSETTO:+1100
TZNAME:AEDT
DTSTART:20241005T160000
END:DAYLIGHT
END:VTIMEZONE
BEGIN:VEVENT
DTSTART;TZID=Australia/Melbourne:20230911T180000
DTEND;TZID=Australia/Melbourne:20230911T213000
DTSTAMP:20260424T054914
CREATED:20230814T110424Z
LAST-MODIFIED:20230814T110424Z
UID:9317-1694455200-1694467800@mycaribbeanpark.com
SUMMARY:An enchanting evening with Steve Kilbey
DESCRIPTION:ENTER TO WIN TWO TICKETS TO STEVE KILBEY – CLICK HERE\nhttps://www.surveymonkey.com/r/PGXLFS5 \n  \nThe esteemed Steve Kilbey\, known for his prolific musical journey\, invites you to an exclusive and intimate performance on Monday\, September 11\, 2023\, at San Lorenzo Restaurant. \nEvent Schedule: \n\nGuest arrival 6:00pm\nFood service commences 6:30pm\nConcert commences: 7:15 pm\nExpected conclusion: 9:30 pm\n\nWhy you shouldn’t miss out: \n\nRevel in the artistic brilliance of Steve Kilbey\, the legendary front man of The Church\, celebrated for hits like “Under the Milky Way” and a career that has spanned over four decades.\nThe San Lorenzo Restaurant\, famed for its exquisite architecture and refined ambience\, offers the perfect backdrop for an evening of high-calibre music and culinary delights.\nEnjoy a night out with delectable dishes and world-class music that promises memories for a lifetime.\n\nAs we anticipate a full house for this exclusive evening\, we recommend securing your tickets at the earliest convenience. \nhttps://stevekilbey.eventbrite.com/ \nNo concession pricing available. \n  \nWhen asked what is the meaning of the song The Church Under the Milky Way? \n\n\nSteve Kilbey told the Guardian Australia\, “It’s not about anything. Like all my songs\, it’s a portal into your own mind where I give you a guided meditation. It’s a blank\, abstract canvas for people to lose themselves in.”\n\n\n  \nSteven John Kilbey is an English-Australian singer-songwriter and bass guitarist for the rock band The Church. He is also a music producer\, poet\, and painter. As of 2020\, Kilbey has released 14 solo albums and has collaborated on recordings with musical artists such as Martin Kennedy\, Stephen Cummings and Ricky Maymi as a vocalist\, musician\, writer and/or producer. Ian McFarlane writes that “Kilbey’s solo recordings [are] challenging and evocative. They ran the gamut of sounds and emotions from electronic and avant-garde to acoustic and symphonic\, joyous and dreamy to saturnine and sardonic”. As of 2020\, Kilbey has over 1000 original songs registered with Australian copyright agency Australasian Performing Right Association (APRA). \n\n\n  \nHosted by Caribbean Park \n  \n 
URL:https://mycaribbeanpark.com/event/stevekilbey/
CATEGORIES:Caribbean Park,Event,San Lorenzo
ATTACH;FMTTYPE=:
END:VEVENT
END:VCALENDAR