BEGIN:VCALENDAR
VERSION:2.0
PRODID:-//My Caribbean Park - ECPv6.15.20//NONSGML v1.0//EN
CALSCALE:GREGORIAN
METHOD:PUBLISH
X-WR-CALNAME:My Caribbean Park
X-ORIGINAL-URL:https://mycaribbeanpark.com
X-WR-CALDESC:Events for My Caribbean Park
REFRESH-INTERVAL;VALUE=DURATION:PT1H
X-Robots-Tag:noindex
X-PUBLISHED-TTL:PT1H
BEGIN:VTIMEZONE
TZID:Australia/Melbourne
BEGIN:STANDARD
TZOFFSETFROM:+1100
TZOFFSETTO:+1000
TZNAME:AEST
DTSTART:20190406T160000
END:STANDARD
BEGIN:DAYLIGHT
TZOFFSETFROM:+1000
TZOFFSETTO:+1100
TZNAME:AEDT
DTSTART:20191005T160000
END:DAYLIGHT
BEGIN:STANDARD
TZOFFSETFROM:+1100
TZOFFSETTO:+1000
TZNAME:AEST
DTSTART:20200404T160000
END:STANDARD
BEGIN:DAYLIGHT
TZOFFSETFROM:+1000
TZOFFSETTO:+1100
TZNAME:AEDT
DTSTART:20201003T160000
END:DAYLIGHT
BEGIN:STANDARD
TZOFFSETFROM:+1100
TZOFFSETTO:+1000
TZNAME:AEST
DTSTART:20210403T160000
END:STANDARD
BEGIN:DAYLIGHT
TZOFFSETFROM:+1000
TZOFFSETTO:+1100
TZNAME:AEDT
DTSTART:20211002T160000
END:DAYLIGHT
END:VTIMEZONE
BEGIN:VEVENT
DTSTART;TZID=Australia/Melbourne:20200419T073000
DTEND;TZID=Australia/Melbourne:20200615T133000
DTSTAMP:20260424T232928
CREATED:20200429T150127Z
LAST-MODIFIED:20200429T150127Z
UID:4887-1587281400-1592227800@mycaribbeanpark.com
SUMMARY:Take-Away Options Middleman
DESCRIPTION:From Monday 20th March the Middleman Cafe will open to provide take away. \nLimited menu includes: coffee\, breakfast items\, snacks/sweets\, wraps and sandwiches. \nHours of trade: 7:30am-1:30pm
URL:https://mycaribbeanpark.com/event/take-away-options-middleman/
CATEGORIES:Caribbean Park,Event,Middleman
ATTACH;FMTTYPE=image/png:https://mycaribbeanpark.com/wp-content/uploads/2018/06/Middleman-logo-1.png
END:VEVENT
END:VCALENDAR