BEGIN:VCALENDAR
VERSION:2.0
PRODID:-//My Caribbean Park - ECPv6.15.20//NONSGML v1.0//EN
CALSCALE:GREGORIAN
METHOD:PUBLISH
X-WR-CALNAME:My Caribbean Park
X-ORIGINAL-URL:https://mycaribbeanpark.com
X-WR-CALDESC:Events for My Caribbean Park
REFRESH-INTERVAL;VALUE=DURATION:PT1H
X-Robots-Tag:noindex
X-PUBLISHED-TTL:PT1H
BEGIN:VTIMEZONE
TZID:Australia/Melbourne
BEGIN:STANDARD
TZOFFSETFROM:+1100
TZOFFSETTO:+1000
TZNAME:AEST
DTSTART:20190406T160000
END:STANDARD
BEGIN:DAYLIGHT
TZOFFSETFROM:+1000
TZOFFSETTO:+1100
TZNAME:AEDT
DTSTART:20191005T160000
END:DAYLIGHT
BEGIN:STANDARD
TZOFFSETFROM:+1100
TZOFFSETTO:+1000
TZNAME:AEST
DTSTART:20200404T160000
END:STANDARD
BEGIN:DAYLIGHT
TZOFFSETFROM:+1000
TZOFFSETTO:+1100
TZNAME:AEDT
DTSTART:20201003T160000
END:DAYLIGHT
BEGIN:STANDARD
TZOFFSETFROM:+1100
TZOFFSETTO:+1000
TZNAME:AEST
DTSTART:20210403T160000
END:STANDARD
BEGIN:DAYLIGHT
TZOFFSETFROM:+1000
TZOFFSETTO:+1100
TZNAME:AEDT
DTSTART:20211002T160000
END:DAYLIGHT
END:VTIMEZONE
BEGIN:VEVENT
DTSTART;TZID=Australia/Melbourne:20200429T080000
DTEND;TZID=Australia/Melbourne:20200615T140000
DTSTAMP:20260425T030024
CREATED:20200401T150514Z
LAST-MODIFIED:20200401T150514Z
UID:4890-1588147200-1592229600@mycaribbeanpark.com
SUMMARY:Take-Away Options San Lorenzo
DESCRIPTION:From Monday 20th March San Lorenzo will open to provide take away. \nLimited menu includes the below menu plus beverages: coffee\, soft drinks\, beer or a cheering takeaway wine if anyone needs. \nHours of trade: 8am-2pm
URL:https://mycaribbeanpark.com/event/take-away-options-sanlorenzo/
CATEGORIES:Caribbean Park,Event,San Lorenzo
ATTACH;FMTTYPE=:
END:VEVENT
END:VCALENDAR