BEGIN:VCALENDAR
VERSION:2.0
PRODID:-//My Caribbean Park - ECPv6.15.20//NONSGML v1.0//EN
CALSCALE:GREGORIAN
METHOD:PUBLISH
X-WR-CALNAME:My Caribbean Park
X-ORIGINAL-URL:https://mycaribbeanpark.com
X-WR-CALDESC:Events for My Caribbean Park
REFRESH-INTERVAL;VALUE=DURATION:PT1H
X-Robots-Tag:noindex
X-PUBLISHED-TTL:PT1H
BEGIN:VTIMEZONE
TZID:Australia/Melbourne
BEGIN:STANDARD
TZOFFSETFROM:+1100
TZOFFSETTO:+1000
TZNAME:AEST
DTSTART:20220402T160000
END:STANDARD
BEGIN:DAYLIGHT
TZOFFSETFROM:+1000
TZOFFSETTO:+1100
TZNAME:AEDT
DTSTART:20221001T160000
END:DAYLIGHT
BEGIN:STANDARD
TZOFFSETFROM:+1100
TZOFFSETTO:+1000
TZNAME:AEST
DTSTART:20230401T160000
END:STANDARD
BEGIN:DAYLIGHT
TZOFFSETFROM:+1000
TZOFFSETTO:+1100
TZNAME:AEDT
DTSTART:20230930T160000
END:DAYLIGHT
BEGIN:STANDARD
TZOFFSETFROM:+1100
TZOFFSETTO:+1000
TZNAME:AEST
DTSTART:20240406T160000
END:STANDARD
BEGIN:DAYLIGHT
TZOFFSETFROM:+1000
TZOFFSETTO:+1100
TZNAME:AEDT
DTSTART:20241005T160000
END:DAYLIGHT
END:VTIMEZONE
BEGIN:VEVENT
DTSTART;TZID=Australia/Melbourne:20230209T121500
DTEND;TZID=Australia/Melbourne:20230209T124500
DTSTAMP:20260424T010247
CREATED:20230124T093654Z
LAST-MODIFIED:20230124T093654Z
UID:8993-1675944900-1675946700@mycaribbeanpark.com
SUMMARY:Fitness February - CORE CLASS
DESCRIPTION:Fitness February \nWe look forward to hosting another year of great events for our Caribbean Park Community to enjoy. This February is an opportunity to try a variety of fitness activities guided by the experts at Club Lime Caribbean Park. \nCORE CLASS (FREE) Thursday 9th February\, 12:15pm – 12.45pm \nFocus on core strength. Please bring a yoga mat\, if possible\, comfortable clothing and water bottle. Extra mats will be supplied. \nLawn outside of the Middleman Cafe \nThese classes are complimentary however\, bookings are essential. \nhttps://www.trybooking.com/events/landing?eid=1000822&  \nFollow us on Instagram: @caribbean_community \nWe look forward to seeing you there. \n  
URL:https://mycaribbeanpark.com/event/welcome-back-2023-2-3/
CATEGORIES:Caribbean Park,Club Lime,Event
END:VEVENT
END:VCALENDAR