BEGIN:VCALENDAR
VERSION:2.0
PRODID:-//My Caribbean Park - ECPv6.15.20//NONSGML v1.0//EN
CALSCALE:GREGORIAN
METHOD:PUBLISH
X-WR-CALNAME:My Caribbean Park
X-ORIGINAL-URL:https://mycaribbeanpark.com
X-WR-CALDESC:Events for My Caribbean Park
REFRESH-INTERVAL;VALUE=DURATION:PT1H
X-Robots-Tag:noindex
X-PUBLISHED-TTL:PT1H
BEGIN:VTIMEZONE
TZID:Australia/Melbourne
BEGIN:STANDARD
TZOFFSETFROM:+1100
TZOFFSETTO:+1000
TZNAME:AEST
DTSTART:20230401T160000
END:STANDARD
BEGIN:DAYLIGHT
TZOFFSETFROM:+1000
TZOFFSETTO:+1100
TZNAME:AEDT
DTSTART:20230930T160000
END:DAYLIGHT
BEGIN:STANDARD
TZOFFSETFROM:+1100
TZOFFSETTO:+1000
TZNAME:AEST
DTSTART:20240406T160000
END:STANDARD
BEGIN:DAYLIGHT
TZOFFSETFROM:+1000
TZOFFSETTO:+1100
TZNAME:AEDT
DTSTART:20241005T160000
END:DAYLIGHT
BEGIN:STANDARD
TZOFFSETFROM:+1100
TZOFFSETTO:+1000
TZNAME:AEST
DTSTART:20250405T160000
END:STANDARD
BEGIN:DAYLIGHT
TZOFFSETFROM:+1000
TZOFFSETTO:+1100
TZNAME:AEDT
DTSTART:20251004T160000
END:DAYLIGHT
END:VTIMEZONE
BEGIN:VEVENT
DTSTART;TZID=Australia/Melbourne:20240629T180000
DTEND;TZID=Australia/Melbourne:20240629T210000
DTSTAMP:20260424T061849
CREATED:20240423T103437Z
LAST-MODIFIED:20240423T103437Z
UID:14801-1719684000-1719694800@mycaribbeanpark.com
SUMMARY:Wine and Dine with Taltarni Vineyards at Hyatt Place Caribbean Park
DESCRIPTION:WINE AND DINE WITH TALTARNI VINEYARDS \nElevate your taste buds with a luxurious evening of fine wines and gourmet cuisine by the talented Chef Nick Kennedy at Hyatt Place Caribbean Park. \nExperience the exclusive 5-course degustation dinner\, an exquisite culinary journey that showcases the finest seasonal ingredients. \nEach course is meticulously paired with prestigious Taltarni wines\, ensuring an unparalleled sensory experience. \nWine & Dine with Taltarni Vineyards Details\nSaturday 29th June 2024\n6pm – 9pm\nArchie’s Farm Restaurant & Bar Hyatt Place Caribbean Park \n$145 per adult\nBookings are essential \nMenu: Taltarni-Wine-Dinner-Menu (hyatt.com) \nBookings: Archie’s Farm Restaurant & Bar – TableCheck
URL:https://mycaribbeanpark.com/event/wine-and-dine-with-taltarni-vineyards-at-hyatt-place-caribbean-park/
CATEGORIES:Event,Hyatt Place
END:VEVENT
END:VCALENDAR