BEGIN:VCALENDAR
VERSION:2.0
PRODID:-//My Caribbean Park - ECPv6.15.20//NONSGML v1.0//EN
CALSCALE:GREGORIAN
METHOD:PUBLISH
X-WR-CALNAME:My Caribbean Park
X-ORIGINAL-URL:https://mycaribbeanpark.com
X-WR-CALDESC:Events for My Caribbean Park
REFRESH-INTERVAL;VALUE=DURATION:PT1H
X-Robots-Tag:noindex
X-PUBLISHED-TTL:PT1H
BEGIN:VTIMEZONE
TZID:Australia/Melbourne
BEGIN:STANDARD
TZOFFSETFROM:+1100
TZOFFSETTO:+1000
TZNAME:AEST
DTSTART:20230401T160000
END:STANDARD
BEGIN:DAYLIGHT
TZOFFSETFROM:+1000
TZOFFSETTO:+1100
TZNAME:AEDT
DTSTART:20230930T160000
END:DAYLIGHT
BEGIN:STANDARD
TZOFFSETFROM:+1100
TZOFFSETTO:+1000
TZNAME:AEST
DTSTART:20240406T160000
END:STANDARD
BEGIN:DAYLIGHT
TZOFFSETFROM:+1000
TZOFFSETTO:+1100
TZNAME:AEDT
DTSTART:20241005T160000
END:DAYLIGHT
BEGIN:STANDARD
TZOFFSETFROM:+1100
TZOFFSETTO:+1000
TZNAME:AEST
DTSTART:20250405T160000
END:STANDARD
BEGIN:DAYLIGHT
TZOFFSETFROM:+1000
TZOFFSETTO:+1100
TZNAME:AEDT
DTSTART:20251004T160000
END:DAYLIGHT
END:VTIMEZONE
BEGIN:VEVENT
DTSTART;VALUE=DATE:20240708
DTEND;VALUE=DATE:20240901
DTSTAMP:20260424T110531
CREATED:20240718T140852Z
LAST-MODIFIED:20240718T140852Z
UID:15039-1720396800-1725148799@mycaribbeanpark.com
SUMMARY:Winter Roast Specials
DESCRIPTION:Winter Roast Specials \nWarm up this season with our Winter Roast Specials featuring Chef’s Roast of the Day at an exceptional price from $39 until August 31\, 2024.\nJoin us every Monday to Friday for a ‘Meet & Roast’ 2-course lunch or indulge in our ultimate Sunday Roast Dinner for Two every Sunday. \nLocation: Hyatt Place Melbourne Caribbean Park\nDate: Now until 31st August 2024\nTime: Weekday roast specials will be during lunch and Sunday roast special will be during dinner \nLink: https://www.hyatt.com/hyatt-place/en-US/melzc-hyatt-place-melbourne-caribbean-park/dining
URL:https://mycaribbeanpark.com/event/winterroast/
CATEGORIES:Hyatt Place
END:VEVENT
END:VCALENDAR