BEGIN:VCALENDAR
VERSION:2.0
PRODID:-//My Caribbean Park - ECPv6.15.20//NONSGML v1.0//EN
CALSCALE:GREGORIAN
METHOD:PUBLISH
X-WR-CALNAME:My Caribbean Park
X-ORIGINAL-URL:https://mycaribbeanpark.com
X-WR-CALDESC:Events for My Caribbean Park
REFRESH-INTERVAL;VALUE=DURATION:PT1H
X-Robots-Tag:noindex
X-PUBLISHED-TTL:PT1H
BEGIN:VTIMEZONE
TZID:Australia/Melbourne
BEGIN:STANDARD
TZOFFSETFROM:+1100
TZOFFSETTO:+1000
TZNAME:AEST
DTSTART:20190406T160000
END:STANDARD
BEGIN:DAYLIGHT
TZOFFSETFROM:+1000
TZOFFSETTO:+1100
TZNAME:AEDT
DTSTART:20191005T160000
END:DAYLIGHT
BEGIN:STANDARD
TZOFFSETFROM:+1100
TZOFFSETTO:+1000
TZNAME:AEST
DTSTART:20200404T160000
END:STANDARD
BEGIN:DAYLIGHT
TZOFFSETFROM:+1000
TZOFFSETTO:+1100
TZNAME:AEDT
DTSTART:20201003T160000
END:DAYLIGHT
BEGIN:STANDARD
TZOFFSETFROM:+1100
TZOFFSETTO:+1000
TZNAME:AEST
DTSTART:20210403T160000
END:STANDARD
BEGIN:DAYLIGHT
TZOFFSETFROM:+1000
TZOFFSETTO:+1100
TZNAME:AEDT
DTSTART:20211002T160000
END:DAYLIGHT
END:VTIMEZONE
BEGIN:VEVENT
DTSTART;VALUE=DATE:20200730
DTEND;VALUE=DATE:20200822
DTSTAMP:20260424T213731
CREATED:20200730T143211Z
LAST-MODIFIED:20200730T143211Z
UID:4989-1596067200-1598054399@mycaribbeanpark.com
SUMMARY:Working From Home Hamper Competition
DESCRIPTION:To go into the draw to win a Working from Home Hamper:\n1. Follow our instagram page @caribbean_park and like this post.\n2.In the comments tag a workmate from Caribbean Park that you miss.\n3. In the comments tag the company you work for and @caribbean_park #caribbeanpark so that we know you are within our community.\nCompetition closes in a few weeks.\n\nThe winner will be chosen at random and contacted to find out where to send the prize.
URL:https://mycaribbeanpark.com/event/working-from-home-hamper-competition/
CATEGORIES:Caribbean Park,Event
ATTACH;FMTTYPE=:
END:VEVENT
END:VCALENDAR