BEGIN:VCALENDAR
VERSION:2.0
PRODID:-//My Caribbean Park - ECPv6.15.20//NONSGML v1.0//EN
CALSCALE:GREGORIAN
METHOD:PUBLISH
X-WR-CALNAME:My Caribbean Park
X-ORIGINAL-URL:https://mycaribbeanpark.com
X-WR-CALDESC:Events for My Caribbean Park
REFRESH-INTERVAL;VALUE=DURATION:PT1H
X-Robots-Tag:noindex
X-PUBLISHED-TTL:PT1H
BEGIN:VTIMEZONE
TZID:Australia/Melbourne
BEGIN:STANDARD
TZOFFSETFROM:+1100
TZOFFSETTO:+1000
TZNAME:AEST
DTSTART:20190406T160000
END:STANDARD
BEGIN:DAYLIGHT
TZOFFSETFROM:+1000
TZOFFSETTO:+1100
TZNAME:AEDT
DTSTART:20191005T160000
END:DAYLIGHT
BEGIN:STANDARD
TZOFFSETFROM:+1100
TZOFFSETTO:+1000
TZNAME:AEST
DTSTART:20200404T160000
END:STANDARD
BEGIN:DAYLIGHT
TZOFFSETFROM:+1000
TZOFFSETTO:+1100
TZNAME:AEDT
DTSTART:20201003T160000
END:DAYLIGHT
BEGIN:STANDARD
TZOFFSETFROM:+1100
TZOFFSETTO:+1000
TZNAME:AEST
DTSTART:20210403T160000
END:STANDARD
BEGIN:DAYLIGHT
TZOFFSETFROM:+1000
TZOFFSETTO:+1100
TZNAME:AEDT
DTSTART:20211002T160000
END:DAYLIGHT
END:VTIMEZONE
BEGIN:VEVENT
DTSTART;VALUE=DATE:20200331
DTEND;VALUE=DATE:20200501
DTSTAMP:20260424T232929
CREATED:20200331T110545Z
LAST-MODIFIED:20200331T110545Z
UID:4868-1585612800-1588291199@mycaribbeanpark.com
SUMMARY:Working from Home Workouts
DESCRIPTION:Pinnacle Health aim to keep the Caribbean Park community healthy even if you are working from home. \nAs most people would now know gyms are closed and Pinnacle Health Clubs is no exception. However\, they have been developing online programs for their members and would now like to extend the offer to all Caribbean Park tenants and their staff\, so we can all continue to stay active at home. \nFor this amazing FREE offer please follow this link: www.pinnaclehealthclub.com.au/les-mills \nIf you have any questions please contact Pinnacle Health Club – Caribbean Park. \n 
URL:https://mycaribbeanpark.com/event/working-from-home-workouts/
CATEGORIES:Event
ATTACH;FMTTYPE=:
END:VEVENT
END:VCALENDAR