BEGIN:VCALENDAR
VERSION:2.0
PRODID:-//My Caribbean Park - ECPv6.15.20//NONSGML v1.0//EN
CALSCALE:GREGORIAN
METHOD:PUBLISH
X-ORIGINAL-URL:https://mycaribbeanpark.com
X-WR-CALDESC:Events for My Caribbean Park
REFRESH-INTERVAL;VALUE=DURATION:PT1H
X-Robots-Tag:noindex
X-PUBLISHED-TTL:PT1H
BEGIN:VTIMEZONE
TZID:Australia/Melbourne
BEGIN:STANDARD
TZOFFSETFROM:+1100
TZOFFSETTO:+1000
TZNAME:AEST
DTSTART:20210403T160000
END:STANDARD
BEGIN:DAYLIGHT
TZOFFSETFROM:+1000
TZOFFSETTO:+1100
TZNAME:AEDT
DTSTART:20211002T160000
END:DAYLIGHT
BEGIN:STANDARD
TZOFFSETFROM:+1100
TZOFFSETTO:+1000
TZNAME:AEST
DTSTART:20220402T160000
END:STANDARD
BEGIN:DAYLIGHT
TZOFFSETFROM:+1000
TZOFFSETTO:+1100
TZNAME:AEDT
DTSTART:20221001T160000
END:DAYLIGHT
BEGIN:STANDARD
TZOFFSETFROM:+1100
TZOFFSETTO:+1000
TZNAME:AEST
DTSTART:20230401T160000
END:STANDARD
BEGIN:DAYLIGHT
TZOFFSETFROM:+1000
TZOFFSETTO:+1100
TZNAME:AEDT
DTSTART:20230930T160000
END:DAYLIGHT
END:VTIMEZONE
BEGIN:VEVENT
DTSTART;VALUE=DATE:20220216
DTEND;VALUE=DATE:20220501
DTSTAMP:20260424T230854
CREATED:20220125T163909Z
LAST-MODIFIED:20220125T163909Z
UID:10000150-1644969600-1651363199@mycaribbeanpark.com
SUMMARY:Hyatt Place Melbourne Caribbean Park - Opening Special
DESCRIPTION:Exclusive Opening Offer\n\n\nWe are thrilled to announce Hyatt Place Melbourne Caribbean Park will open Wednesday 16th February. In celebration Hyatt Place have given us this fantastic offer to pass on to our community. \nBe among the first to experience the finest accommodation and amenities in Melbourne’s Southeast\, at the premier Caribbean Park precinct with our exclusive opening offer. \nPriced from AUD $225 per room and per night\, the package includes: \n\nBuffet Breakfast for two\nFree car parking\nFree Wi-Fi\nFree 24/7 access to Fitness Centre\nWebsite: https://www.hyatt.com/en-US/hotel/australia/hyatt-place-melbourne-caribbean-park/melzc/offers
URL:https://mycaribbeanpark.com/event/hyatt-place-melbourne-caribbean-park-career-open-day-2/
LOCATION:VIC
CATEGORIES:Caribbean Park,Event,Hyatt Place
ATTACH;FMTTYPE=:
END:VEVENT
BEGIN:VEVENT
DTSTART;VALUE=DATE:20220228
DTEND;VALUE=DATE:20220305
DTSTAMP:20260424T230854
CREATED:20200728T103538Z
LAST-MODIFIED:20200728T103538Z
UID:10000132-1646006400-1646438399@mycaribbeanpark.com
SUMMARY:The Alibi
DESCRIPTION:
URL:https://mycaribbeanpark.com/event/the-alibi/
LOCATION:VIC
CATEGORIES:Event,The Alibi
ATTACH;FMTTYPE=:
END:VEVENT
BEGIN:VEVENT
DTSTART;VALUE=DATE:20220301
DTEND;VALUE=DATE:20220401
DTSTAMP:20260424T230854
CREATED:20220303T122610Z
LAST-MODIFIED:20220303T122610Z
UID:10000159-1646092800-1648771199@mycaribbeanpark.com
SUMMARY:MOVEMENT LAB - Introductory Offer
DESCRIPTION:Meet Matt and the new Physio team from Movement Lab. They are ready to support all tenants throughout Caribbean Park and in the local community. Taken them up on this special introductory offer!\n\n\nMovement Lab Physiotherapy \nAt Movement Lab Physiotherapy\, we provide patients with a welcoming and comfortable environment for treating all types of pain\, aches and injuries. We are located inside of Club Lime at B 44\, Lakeview Drive\, Scoresby. \nMatt is our APA Sports and Musculoskeletal Physiotherapist at Caribbean Park! His passion is working with people to help them perform at their best. Whether it’s rehabilitating you from an injury or improving your movement patterns to decrease the risk of injury\, he can help you achieve your goals. \nOur clinic also has access to Club Lime’s state of the art facilities and equipment\, so we are not only able to help clients with any technical lifting issues but also use the equipment to help people through their rehab programs. \nMovement Lab Physiotherapy offer the following services: \n\nPhysiotherapy\nSports Physiotherapy\nSports and Musculoskeletal Screening\nPre and Post Op Physio\nRunning and Walking Analysis\n\nAddress: B44 Lakeview Drive\, Scoresby VIC 3179 \nPhone: 0431334588 \nEmail: matt@movementlabphysio.com.au \nOpen Hours: Tuesday 11am-3pm\, Thursday 10am-2pm \nMovement Lab Physiotherapy practice at Club Lime at Caribbean Park.  \n\nTo book an appointment or for further information please visit  www.movementlabphysio.com.au \n\n\n\n 
URL:https://mycaribbeanpark.com/event/clublime-gym-special-2/
LOCATION:work sans;normal;400;100%;U+0-10FFFF
CATEGORIES:Caribbean Park,Event,Physio
ATTACH;FMTTYPE=:
END:VEVENT
BEGIN:VEVENT
DTSTART;VALUE=DATE:20220304
DTEND;VALUE=DATE:20220307
DTSTAMP:20260424T230854
CREATED:20220207T170356Z
LAST-MODIFIED:20220207T170356Z
UID:10000151-1646352000-1646611199@mycaribbeanpark.com
SUMMARY:Melbourne Tiny Homes Expo - Tenants Special Offer
DESCRIPTION:This annual Expo is full of Tiny Homes\, Portable Homes\, Modular Homes\, Granny Flats\, Off the Grid Ideas\, Sustainable Living\, and all that makes the Tiny Home industry so fascinating. \nSpeak to builders about custom builds\, learn how to ‘homestead’ off the grid\, building products and great ideas on everything Tiny Home and backyard living related. \nGet answers on rules\, regs and finance. Can you travel? how many can comfortably live in them? What about toilets and grey water? Who builds them? Can I rent them? Should I go for a Van\, a static house\, or a tiny on wheels? \nDiscover peace for the soul\, stepping out of the rat race or; AirBnb style enterprise; financial freedom or; independent living for your loved ones. \nNOTE: Morning entry – you can stay all day – you do not need to leave at 1pm \nChoose AM arrival (from 9am – 1pm) or PM arrival (from 1pm – 5pm). \nFRIDAY has limited speakers – See FAQS \nSaturday / Sunday are identical – you do not miss a speaker or presentation if you book a PM only ticket. \nStaggered entry and higher ticket prices helps to avoid crowding and queues for viewing houses\, seeing speakers and covidsafe planning. \nADVICE: Plan your day – it is not suited to quickly slipping in to a bunch of tiny homes – you will be queueing all day otherwise – there is SO MUCH MORE than just viewing the houses. \nThis is an Expo to help you journey into a world that throws up a lot of questions\, ideas and solutions to a new way of living. \n  \nWE CAN NOT RECOMMEND ENOUGH –  \nFOLLOW THE FACEBOOK EVENT PAGE AND/OR VISIT FAQS ABOUT THIS EVENT \n  \nFAQS \n  \nLock the dates in your calendar and we will look forward to seeing you at Event Central at Caribbean Park for the Tiny Homes Expo from Friday 4th to Sunday 6th March 2022. \nMelbourne Tiny Homes Expo \nSPECIAL OFFER \nFor the workforce throughout Caribbean Park Melbourne Tiny Homes Expo are offering you $10 tickets limited to 2 per person. \nPlease email marketing@caribbeanpark.com for the special link. (We are unable to post this link online – but very happy to send you the email you the link to purchase tickets.) \n 
URL:https://mycaribbeanpark.com/event/outdoorlivingshow-2/
LOCATION:VIC
CATEGORIES:Caribbean Park,Event
ATTACH;FMTTYPE=:
END:VEVENT
END:VCALENDAR