BEGIN:VCALENDAR
VERSION:2.0
PRODID:-//My Caribbean Park - ECPv6.15.20//NONSGML v1.0//EN
CALSCALE:GREGORIAN
METHOD:PUBLISH
X-WR-CALNAME:My Caribbean Park
X-ORIGINAL-URL:https://mycaribbeanpark.com
X-WR-CALDESC:Events for My Caribbean Park
REFRESH-INTERVAL;VALUE=DURATION:PT1H
X-Robots-Tag:noindex
X-PUBLISHED-TTL:PT1H
BEGIN:VTIMEZONE
TZID:Australia/Melbourne
BEGIN:STANDARD
TZOFFSETFROM:+1100
TZOFFSETTO:+1000
TZNAME:AEST
DTSTART:20210403T160000
END:STANDARD
BEGIN:DAYLIGHT
TZOFFSETFROM:+1000
TZOFFSETTO:+1100
TZNAME:AEDT
DTSTART:20211002T160000
END:DAYLIGHT
BEGIN:STANDARD
TZOFFSETFROM:+1100
TZOFFSETTO:+1000
TZNAME:AEST
DTSTART:20220402T160000
END:STANDARD
BEGIN:DAYLIGHT
TZOFFSETFROM:+1000
TZOFFSETTO:+1100
TZNAME:AEDT
DTSTART:20221001T160000
END:DAYLIGHT
BEGIN:STANDARD
TZOFFSETFROM:+1100
TZOFFSETTO:+1000
TZNAME:AEST
DTSTART:20230401T160000
END:STANDARD
BEGIN:DAYLIGHT
TZOFFSETFROM:+1000
TZOFFSETTO:+1100
TZNAME:AEDT
DTSTART:20230930T160000
END:DAYLIGHT
END:VTIMEZONE
BEGIN:VEVENT
DTSTART;VALUE=DATE:20220627
DTEND;VALUE=DATE:20220901
DTSTAMP:20260424T143623
CREATED:20220629T153313Z
LAST-MODIFIED:20220629T153313Z
UID:10000169-1656288000-1661990399@mycaribbeanpark.com
SUMMARY:10% off drinks at Hyatt Place
DESCRIPTION:Hyatt is offering a beverage discount exclusively for Caribbean Park Community. \nThe offer is 10% off any drinks on their menu\, any time of the day. All you need to do is let the Host team know you are from Caribbean Park.
URL:https://mycaribbeanpark.com/event/drinksoffer/
LOCATION:VIC
CATEGORIES:Hyatt Place
ATTACH;FMTTYPE=:
END:VEVENT
BEGIN:VEVENT
DTSTART;TZID=Australia/Melbourne:20220725T160000
DTEND;TZID=Australia/Melbourne:20220725T180000
DTSTAMP:20260424T143623
CREATED:20220705T130611Z
LAST-MODIFIED:20220705T130611Z
UID:10000170-1658764800-1658772000@mycaribbeanpark.com
SUMMARY:Greenwood Scoresby - Christmas in July
DESCRIPTION:Greenwood Scoresby’s ~ Christmas in July \nMonday 25th July 2022 ~ 4pm – 6pm  \nWe would like to extend an invitation to the families within the Caribbean Business Park to join us for Christmas in July.  \nEveryone Welcome!  \nCome along for lots of Winter Christmas Fun! Including a very special visit from Santa himself.  \nDon’t miss out\, R.S.V.P now!  \nR.S.V.P by July 20th to our office at scoresby@greenwood.com.au or 9763 7489  \nPlease include numbers of adults and children attending along with dietary requirements.  \nYOU MUST RSVP TO ATTEND ~THANK YOU  \nAddress ~ 40 Lakeview Drive Scoresby 
URL:https://mycaribbeanpark.com/event/greenwood-scoresby-christmas-in-july/
LOCATION:VIC
CATEGORIES:Caribbean Park
END:VEVENT
END:VCALENDAR