BEGIN:VCALENDAR
VERSION:2.0
PRODID:-//My Caribbean Park - ECPv6.15.20//NONSGML v1.0//EN
CALSCALE:GREGORIAN
METHOD:PUBLISH
X-ORIGINAL-URL:https://mycaribbeanpark.com
X-WR-CALDESC:Events for My Caribbean Park
REFRESH-INTERVAL;VALUE=DURATION:PT1H
X-Robots-Tag:noindex
X-PUBLISHED-TTL:PT1H
BEGIN:VTIMEZONE
TZID:Australia/Melbourne
BEGIN:STANDARD
TZOFFSETFROM:+1100
TZOFFSETTO:+1000
TZNAME:AEST
DTSTART:20210403T160000
END:STANDARD
BEGIN:DAYLIGHT
TZOFFSETFROM:+1000
TZOFFSETTO:+1100
TZNAME:AEDT
DTSTART:20211002T160000
END:DAYLIGHT
BEGIN:STANDARD
TZOFFSETFROM:+1100
TZOFFSETTO:+1000
TZNAME:AEST
DTSTART:20220402T160000
END:STANDARD
BEGIN:DAYLIGHT
TZOFFSETFROM:+1000
TZOFFSETTO:+1100
TZNAME:AEDT
DTSTART:20221001T160000
END:DAYLIGHT
BEGIN:STANDARD
TZOFFSETFROM:+1100
TZOFFSETTO:+1000
TZNAME:AEST
DTSTART:20230401T160000
END:STANDARD
BEGIN:DAYLIGHT
TZOFFSETFROM:+1000
TZOFFSETTO:+1100
TZNAME:AEDT
DTSTART:20230930T160000
END:DAYLIGHT
END:VTIMEZONE
BEGIN:VEVENT
DTSTART;TZID=Australia/Melbourne:20220929T163000
DTEND;TZID=Australia/Melbourne:20220929T183000
DTSTAMP:20260424T073156
CREATED:20220905T162709Z
LAST-MODIFIED:20220905T162709Z
UID:10000179-1664469000-1664476200@mycaribbeanpark.com
SUMMARY:CLUB LIME & ELITE SUPPLEMENTS EVENT
DESCRIPTION:Club Lime have collaborated with Elite Supplements to provide Caribbean Park tenants and staff a special event next week.\nElite Supplements will be in Club Lime Caribbean Park Thursday 29th September from 4:30pm-6:30pm for a FREE taste testing event.\nIt’ll be a great event and we’d love to see you there.
URL:https://mycaribbeanpark.com/event/club-lime-elite/
LOCATION:work sans;normal;400;100%;U+0-10FFFF
CATEGORIES:Club Lime,Event
ATTACH;FMTTYPE=:
END:VEVENT
END:VCALENDAR