BEGIN:VCALENDAR
VERSION:2.0
PRODID:-//My Caribbean Park - ECPv6.15.20//NONSGML v1.0//EN
CALSCALE:GREGORIAN
METHOD:PUBLISH
X-WR-CALNAME:My Caribbean Park
X-ORIGINAL-URL:https://mycaribbeanpark.com
X-WR-CALDESC:Events for My Caribbean Park
REFRESH-INTERVAL;VALUE=DURATION:PT1H
X-Robots-Tag:noindex
X-PUBLISHED-TTL:PT1H
BEGIN:VTIMEZONE
TZID:Australia/Melbourne
BEGIN:STANDARD
TZOFFSETFROM:+1100
TZOFFSETTO:+1000
TZNAME:AEST
DTSTART:20220402T160000
END:STANDARD
BEGIN:DAYLIGHT
TZOFFSETFROM:+1000
TZOFFSETTO:+1100
TZNAME:AEDT
DTSTART:20221001T160000
END:DAYLIGHT
BEGIN:STANDARD
TZOFFSETFROM:+1100
TZOFFSETTO:+1000
TZNAME:AEST
DTSTART:20230401T160000
END:STANDARD
BEGIN:DAYLIGHT
TZOFFSETFROM:+1000
TZOFFSETTO:+1100
TZNAME:AEDT
DTSTART:20230930T160000
END:DAYLIGHT
BEGIN:STANDARD
TZOFFSETFROM:+1100
TZOFFSETTO:+1000
TZNAME:AEST
DTSTART:20240406T160000
END:STANDARD
BEGIN:DAYLIGHT
TZOFFSETFROM:+1000
TZOFFSETTO:+1100
TZNAME:AEDT
DTSTART:20241005T160000
END:DAYLIGHT
END:VTIMEZONE
BEGIN:VEVENT
DTSTART;VALUE=DATE:20230101
DTEND;VALUE=DATE:20230301
DTSTAMP:20260423T232920
CREATED:20230124T092823Z
LAST-MODIFIED:20230124T092823Z
UID:10000181-1672531200-1677628799@mycaribbeanpark.com
SUMMARY:Fitness February with Club Lime
DESCRIPTION:Fitness February \nWe look forward to hosting another year of great events for our Caribbean Park Community to enjoy. This February is an opportunity to try a variety of fitness activities guided by the experts at Club Lime Caribbean Park. \nYOGA CLASS (FREE) Thursday 2nd February\, 12:15pm – 12.45pm \nFocus on stretch and breath. Please bring a yoga mat\, if possible\, comfortable clothing and water bottle. Extra mats will be supplied. \nCORE CLASS (FREE) Thursday 9th February\, 12:15pm – 12.45pm \nFocus on core strength. Please bring a yoga mat\, if possible\, comfortable clothing and water bottle. Extra mats will be supplied. \nSTRENGTH CLASS (FREE) Thursday 16th February\, 12:15pm – 12.45pm \nFocus on building muscle with dumbbells. Please bring a yoga mat\, if possible\, comfortable clothing and water bottle. Extra mats will be supplied. \nMOBILITY CLASS (FREE) Thursday 23rd February\, 12:15pm – 12.45pm \nFocus on mobility and functional exercises. Please bring a yoga mat\, if possible\, comfortable clothing and water bottle. Extra mats will be supplied. \nLawn outside of the Middleman Cafe \nThese classes are complimentary however\, bookings are essential. \nhttps://www.trybooking.com/events/landing?eid=1000822&  \nFollow us on Instagram: @caribbean_community \nWe look forward to seeing you there.
URL:https://mycaribbeanpark.com/event/welcome-back-2023-2/
LOCATION:VIC
CATEGORIES:Caribbean Park,Club Lime,Event
END:VEVENT
END:VCALENDAR