BEGIN:VCALENDAR
VERSION:2.0
PRODID:-//My Caribbean Park - ECPv6.15.20//NONSGML v1.0//EN
CALSCALE:GREGORIAN
METHOD:PUBLISH
X-ORIGINAL-URL:https://mycaribbeanpark.com
X-WR-CALDESC:Events for My Caribbean Park
REFRESH-INTERVAL;VALUE=DURATION:PT1H
X-Robots-Tag:noindex
X-PUBLISHED-TTL:PT1H
BEGIN:VTIMEZONE
TZID:Australia/Melbourne
BEGIN:STANDARD
TZOFFSETFROM:+1100
TZOFFSETTO:+1000
TZNAME:AEST
DTSTART:20220402T160000
END:STANDARD
BEGIN:DAYLIGHT
TZOFFSETFROM:+1000
TZOFFSETTO:+1100
TZNAME:AEDT
DTSTART:20221001T160000
END:DAYLIGHT
BEGIN:STANDARD
TZOFFSETFROM:+1100
TZOFFSETTO:+1000
TZNAME:AEST
DTSTART:20230401T160000
END:STANDARD
BEGIN:DAYLIGHT
TZOFFSETFROM:+1000
TZOFFSETTO:+1100
TZNAME:AEDT
DTSTART:20230930T160000
END:DAYLIGHT
BEGIN:STANDARD
TZOFFSETFROM:+1100
TZOFFSETTO:+1000
TZNAME:AEST
DTSTART:20240406T160000
END:STANDARD
BEGIN:DAYLIGHT
TZOFFSETFROM:+1000
TZOFFSETTO:+1100
TZNAME:AEDT
DTSTART:20241005T160000
END:DAYLIGHT
END:VTIMEZONE
BEGIN:VEVENT
DTSTART;VALUE=DATE:20230301
DTEND;VALUE=DATE:20230401
DTSTAMP:20260423T213844
CREATED:20230302T104022Z
LAST-MODIFIED:20230302T104022Z
UID:10000189-1677628800-1680307199@mycaribbeanpark.com
SUMMARY:San Lorenzo Cafe Open (Coffee $3*)
DESCRIPTION:San Lorenzo open their cafe section from Tuesday 7th March 2021. \nThis means that you’ll be able to taste their delicious coffee and enjoy breakfast from 8am. \n\n\n\nSan Lorenzo CAFE – Open\n\n\n8AM – 3PM\n\n\n\n\n\nSimple\, honest\, everyday food made from the finest\, locally sourced produce.\n\n\nBreakfast\, delicious sandwiches\, panini’s\, salads\, sweets and coffee.\n\n\n\n\n\nEAT IN or GRAB & GO\n\n\n\n\n\nCome in for your $3 Coffee (reg*)\n\n\n\n\n\n*Offer starts Tuesday 7 March 2023 ends 31 March 2023.\n\n\n\n \nRead more about San Lorenzo… \nSan Lorenzo is the second outpost of the hugely successful Sette Bello restaurant\, Glen Waverley which over the years has earned a reputation for high quality service and food. Restaurateurs Frank Ciorciari\, Elvis Chiaravalle and Chef Nick Phillips join forces with Sab Randazzo from the renowned Sapore restaurant\, St Kilda. Combined\, they bring decades of experience and old-style professional service to San Lorenzo – a unique CBD dining experience and venue space located in the Eastern suburbs. \nWith a focus on Italian and modern cuisine\, San Lorenzo restaurant offers a dining experience enhanced by uncomplicated\, yet delicious food complemented by a carefully selected list of European and Australian wines. To be enjoyed in stylish and contemporary  surrounds complete with charming dining nooks and Italian-inspired good looks. Emphasising seasonal ingredients and fresh flavours\, the menu features a selection of appetisers\, pasta\, main meals and rotisserie with a range of unique desserts\, all made in-house by Pastry Chef Angelique Iuliano\, with a focus on quality and consistency. \nSan Lorenzo cafe is a casual and inviting space that specialises in fresh\, healthy and popular breakfast and lunch options catering for either take away\, a quick bite or a lingering meal enjoyed with colleagues or friends. The coffee San Lorenzo serves has also been carefully selected; a specialty\, unique blend of sustainably farmed Brazilian beans\, roasted here in Melbourne. \nIt is said that San Lorenzo is the patron saint of cooks. He is also the patron saint of the cooking school located at the Mercato San Lorenzo in Florence\, located on the backside of the San Lorenzo Church. Tradition tells us that when Lorenzo was sentenced to death after humiliating the pagan prefect of Rome at the time\, he was roasted to death on a gridiron\, and to him are attributed the famous dying words\, “Turn me over\, I’m done on this side.” \nThe Italians\, with their characteristically ironic humour\, celebrate the Feast of San Lorenzo with barbecues. The feast day for San Lorenzo is the 10th August. \nFor a special birthday celebration\, an intimate private function or a corporate event\, San Lorenzo offers a separate space ‘The Private Dining Room.’ For all enquiries and availability please contact San Lorenzo. \nCheck the website for details www.sanlorenzorestaurant.com.au  \n 
URL:https://mycaribbeanpark.com/event/sanlorenzocafeopen/
LOCATION:VIC
CATEGORIES:Event,San Lorenzo
ATTACH;FMTTYPE=:
END:VEVENT
BEGIN:VEVENT
DTSTART;VALUE=DATE:20230321
DTEND;VALUE=DATE:20230401
DTSTAMP:20260423T213844
CREATED:20230322T131803Z
LAST-MODIFIED:20230322T131803Z
UID:10000191-1679356800-1680307199@mycaribbeanpark.com
SUMMARY:Club Lime Biggest Promotion
DESCRIPTION:CLUB LIME BEST DEAL TO DATE \n \nClub Lime Caribbean Park have started off the year with a BANG\, by hosting Fitness February and Movement March for all Caribbean Park tenants! To celebrate their success\, we will be holding one of our biggest promotions to date;\n\n\n\n5 WEEKS FREE\n$0 JOINING FEE\n21 DAY REFORMER PILATES ACCESS\n10% CORPORATE DISCOUNT\nSIGNUP WITH A FRIEND & RECIEVE AN EXTRA $25 CREDIT ON YOUR ACCOUNT\n\n\n\nThis promotion will be active from Monday 27th March and will expire at midnight on Friday 31st March. \nPromotions cannot be extended past their expiry date.\n\nWe are a no lock in contract gym\, with membership options starting from only $14.41 per week. The benefit of our Caribbean Park club is that we are literally within walking distance from most businesses in the park! \n\n\nIf you would like to come take a look at our facilities or discuss the memberships in further detail\, please book in an appointment at caribbeanpark@clublime.com.au or call 03 8672 5059.\n\nAlternatively\, you can conveniently signup online to Caribbean Park at www.clublime.com.au/join-now/\nBefore signup please ensure to read through our terms and conditions found below.\n\nTerms & Conditions;\n\n\nWe are a no lock in contract gym\, which means you only need to provide 28 days’ notice to cancel your membership.\nThe only payment made on signup is the pro-rata of the current fortnight we are already in. The 5 weeks is applied as a credit from the new fortnight.\nOur 10% corporate discount is for Caribbean Park tenants only. If you signup online\, please inform staff of your business location to caribbeanpark@clublime.com.au to ensure the discount is applied.\n\nAnd that’s it! We hope to see your prioritising your health and wellness down at our Caribbean Park club soon!
URL:https://mycaribbeanpark.com/event/club-lime/
LOCATION:work sans;normal;400;100%;U+0-10FFFF
CATEGORIES:Caribbean Park,Club Lime,Event
END:VEVENT
END:VCALENDAR