BEGIN:VCALENDAR
VERSION:2.0
PRODID:-//My Caribbean Park - ECPv6.15.20//NONSGML v1.0//EN
CALSCALE:GREGORIAN
METHOD:PUBLISH
X-WR-CALNAME:My Caribbean Park
X-ORIGINAL-URL:https://mycaribbeanpark.com
X-WR-CALDESC:Events for My Caribbean Park
REFRESH-INTERVAL;VALUE=DURATION:PT1H
X-Robots-Tag:noindex
X-PUBLISHED-TTL:PT1H
BEGIN:VTIMEZONE
TZID:Australia/Melbourne
BEGIN:STANDARD
TZOFFSETFROM:+1100
TZOFFSETTO:+1000
TZNAME:AEST
DTSTART:20220402T160000
END:STANDARD
BEGIN:DAYLIGHT
TZOFFSETFROM:+1000
TZOFFSETTO:+1100
TZNAME:AEDT
DTSTART:20221001T160000
END:DAYLIGHT
BEGIN:STANDARD
TZOFFSETFROM:+1100
TZOFFSETTO:+1000
TZNAME:AEST
DTSTART:20230401T160000
END:STANDARD
BEGIN:DAYLIGHT
TZOFFSETFROM:+1000
TZOFFSETTO:+1100
TZNAME:AEDT
DTSTART:20230930T160000
END:DAYLIGHT
BEGIN:STANDARD
TZOFFSETFROM:+1100
TZOFFSETTO:+1000
TZNAME:AEST
DTSTART:20240406T160000
END:STANDARD
BEGIN:DAYLIGHT
TZOFFSETFROM:+1000
TZOFFSETTO:+1100
TZNAME:AEDT
DTSTART:20241005T160000
END:DAYLIGHT
END:VTIMEZONE
BEGIN:VEVENT
DTSTART;TZID=Australia/Melbourne:20230831T100000
DTEND;TZID=Australia/Melbourne:20230901T113000
DTSTAMP:20260423T115146
CREATED:20230816T114019Z
LAST-MODIFIED:20230816T114019Z
UID:10000199-1693476000-1693567800@mycaribbeanpark.com
SUMMARY:Celebrating Father's Day at San Lorenzo
DESCRIPTION:Celebrating Father’s Day at San Lorenzo\nTo celebrate the dads of Caribbean Park this Father’s Day\, we are giving away the first 50 coffees and croissants\, for FREE. \nVenue: San Lorenzo Restaurant (31 Dalmore Dr\, Scoresby) \nWhen: Thursday August 31 \nTime: 10am until all gone \nFirst in best dressed! See you there.  \n \n 
URL:https://mycaribbeanpark.com/event/fathersday/
LOCATION:VIC
CATEGORIES:Caribbean Park,Event,San Lorenzo
ATTACH;FMTTYPE=:
END:VEVENT
END:VCALENDAR