BEGIN:VCALENDAR
VERSION:2.0
PRODID:-//My Caribbean Park - ECPv6.15.20//NONSGML v1.0//EN
CALSCALE:GREGORIAN
METHOD:PUBLISH
X-ORIGINAL-URL:https://mycaribbeanpark.com
X-WR-CALDESC:Events for My Caribbean Park
REFRESH-INTERVAL;VALUE=DURATION:PT1H
X-Robots-Tag:noindex
X-PUBLISHED-TTL:PT1H
BEGIN:VTIMEZONE
TZID:Australia/Melbourne
BEGIN:STANDARD
TZOFFSETFROM:+1100
TZOFFSETTO:+1000
TZNAME:AEST
DTSTART:20220402T160000
END:STANDARD
BEGIN:DAYLIGHT
TZOFFSETFROM:+1000
TZOFFSETTO:+1100
TZNAME:AEDT
DTSTART:20221001T160000
END:DAYLIGHT
BEGIN:STANDARD
TZOFFSETFROM:+1100
TZOFFSETTO:+1000
TZNAME:AEST
DTSTART:20230401T160000
END:STANDARD
BEGIN:DAYLIGHT
TZOFFSETFROM:+1000
TZOFFSETTO:+1100
TZNAME:AEDT
DTSTART:20230930T160000
END:DAYLIGHT
BEGIN:STANDARD
TZOFFSETFROM:+1100
TZOFFSETTO:+1000
TZNAME:AEST
DTSTART:20240406T160000
END:STANDARD
BEGIN:DAYLIGHT
TZOFFSETFROM:+1000
TZOFFSETTO:+1100
TZNAME:AEDT
DTSTART:20241005T160000
END:DAYLIGHT
END:VTIMEZONE
BEGIN:VEVENT
DTSTART;VALUE=DATE:20231112
DTEND;VALUE=DATE:20231113
DTSTAMP:20260421T224616
CREATED:20230913T102946Z
LAST-MODIFIED:20230913T102946Z
UID:10000203-1699747200-1699833599@mycaribbeanpark.com
SUMMARY:Fun Run - Run2Cure Melbourne
DESCRIPTION:BE PART OF HISTORY AND JOIN OUR INAUGURAL EVENT!\n\nRun2Cure Melbourne – Caribbean Gardens\, Scoresby \nAfter a decade of success in Sydney\, we are excited to launch Run2Cure in Melbourne! Join us on Sunday 12th November in the Caribbean Gardens to run or walk to benefit the childhood cancer neuroblastoma. \nChoose between our popular\, timed distances of 10k and 5k as well as our family friendly 3k or 1k Little Heroes Walk. All events will be run on a mixture of asphalt and hard packed dirt path around the lake and surrounds in the gardens precinct. \nDon’t forget to register by 15th September to save 20%! \nStay with us for the morning too and enjoy our family fun day activities!
URL:https://mycaribbeanpark.com/event/run2cure/
CATEGORIES:Event
END:VEVENT
END:VCALENDAR