BEGIN:VCALENDAR
VERSION:2.0
PRODID:-//My Caribbean Park - ECPv6.15.20//NONSGML v1.0//EN
CALSCALE:GREGORIAN
METHOD:PUBLISH
X-WR-CALNAME:My Caribbean Park
X-ORIGINAL-URL:https://mycaribbeanpark.com
X-WR-CALDESC:Events for My Caribbean Park
REFRESH-INTERVAL;VALUE=DURATION:PT1H
X-Robots-Tag:noindex
X-PUBLISHED-TTL:PT1H
BEGIN:VTIMEZONE
TZID:UTC
BEGIN:STANDARD
TZOFFSETFROM:+0000
TZOFFSETTO:+0000
TZNAME:UTC
DTSTART:20250101T000000
END:STANDARD
END:VTIMEZONE
BEGIN:VTIMEZONE
TZID:Australia/Melbourne
BEGIN:STANDARD
TZOFFSETFROM:+1100
TZOFFSETTO:+1000
TZNAME:AEST
DTSTART:20250405T160000
END:STANDARD
BEGIN:DAYLIGHT
TZOFFSETFROM:+1000
TZOFFSETTO:+1100
TZNAME:AEDT
DTSTART:20251004T160000
END:DAYLIGHT
BEGIN:STANDARD
TZOFFSETFROM:+1100
TZOFFSETTO:+1000
TZNAME:AEST
DTSTART:20260404T160000
END:STANDARD
BEGIN:DAYLIGHT
TZOFFSETFROM:+1000
TZOFFSETTO:+1100
TZNAME:AEDT
DTSTART:20261003T160000
END:DAYLIGHT
BEGIN:STANDARD
TZOFFSETFROM:+1100
TZOFFSETTO:+1000
TZNAME:AEST
DTSTART:20270403T160000
END:STANDARD
BEGIN:DAYLIGHT
TZOFFSETFROM:+1000
TZOFFSETTO:+1100
TZNAME:AEDT
DTSTART:20271002T160000
END:DAYLIGHT
END:VTIMEZONE
BEGIN:VEVENT
DTSTART;VALUE=DATE:20260101
DTEND;VALUE=DATE:20260201
DTSTAMP:20260424T163024
CREATED:20260107T002911Z
LAST-MODIFIED:20260107T034800Z
UID:10000950-1767225600-1769903999@mycaribbeanpark.com
SUMMARY:TOUGH MUDDER - Caribbean Park EXCLUSIVE
DESCRIPTION:Tough Mudder is coming to Caribbean Park on 31 January 2026. \n\n\nTough Mudder is built for teams\, or just you and your inner warrior — so rally your mates\, your gym crew\, your work buddies (or that one friend who always needs a challenge) and take on the mud together. \n\n\n\nGet Exclusive 15% discount off all sign-ups when you use discount code at checkout (email marketing@caribbeanpark.com for the discount code or check the image below). \n\n\nStronger as a team — conquer every obstacle side by side and sign up a team to unlock further team benefits.  \n\n\n\nGet ready for an unforgettable day out = bragging rights guaranteed \nThe mud\, the walls\, the ice\, the fire — it’s all waiting for you. This is your moment. Grab the crew and make it happen. \n\nWe encourage all Caribbean Park tenants to enter a team to win the Caribbean Park Cup! \n\nSIGN UP NOW
URL:https://mycaribbeanpark.com/event/tough-mudder-caribbean-park-exclusive/
LOCATION:Event Central at Caribbean Park\, 1280 Ferntree Gully Road\, Scoresby\, Vic\, 3179\, Australia
CATEGORIES:Caribbean Park,Event,Event Central at Caribbean Park
ATTACH;FMTTYPE=image/png:https://mycaribbeanpark.com/wp-content/uploads/2025/08/CARIBBEAN-GARDENS.png
END:VEVENT
BEGIN:VEVENT
DTSTART;TZID=UTC:20260430T090000
DTEND;TZID=UTC:20260501T173000
DTSTAMP:20260424T163024
CREATED:20260422T013413Z
LAST-MODIFIED:20260422T014503Z
UID:10000971-1777539600-1777656600@mycaribbeanpark.com
SUMMARY:Hallmark Cards - Huge Car Park Sale
DESCRIPTION:Don’t Miss the Hallmark & Crayola Car Park Sale! 🎉 \nGet ready for huge savings at the Hallmark & Crayola Car Park Sale\, happening for two days only! Enjoy up to 90% off RRP on a fantastic range of greeting cards\, gift wrap\, plush toys\, and more. \n🛍️ Thursday 30th April – 9 AM to 5:30 PM🛍️ Friday 1st May – 9 AM to 5:30 PM \nHallmark Cards Head Office1 Lakeview Drive\, Scoresby (Undercover Car Park)
URL:https://mycaribbeanpark.com/event/hallmark-cards-huge-car-park-sale-2/
LOCATION:Hallmark\, 10 Caribbean Drive\, Scoresby\, VIC\, 3179\, Australia
CATEGORIES:Caribbean Park,Event
ATTACH;FMTTYPE=image/png:https://mycaribbeanpark.com/wp-content/uploads/2025/03/Hallmark.png
END:VEVENT
BEGIN:VEVENT
DTSTART;TZID=UTC:20260507T120000
DTEND;TZID=UTC:20260507T130000
DTSTAMP:20260424T163024
CREATED:20260312T003222Z
LAST-MODIFIED:20260424T051905Z
UID:10000967-1778155200-1778158800@mycaribbeanpark.com
SUMMARY:Mother's Day Treat at Caribbean Park
DESCRIPTION:Mother’s Day Treat at Caribbean Park ❤️ \nLet’s celebrate the mums in our community with something special! \nJoin us for a special Mother’s Day moment at Caribbean Park. \nThursday 7 MayFrom 12:00 PM to 12:45 PM \nWe’ll be offering a delicious complimentary treat for mums (while stocks last)\, as a small gesture of appreciation and celebration. \nPlus\, don’t miss our Hallmark Mother’s Day competition for your chance to win a beautiful hamper.\nSimply follow both our Instagram page and Hallmark\, and comment “Done” on the competition post to enter. \nHallmark will also be joining us on the day with FREE greeting cards\, so you’re covered for all the mums in your life 💌
URL:https://mycaribbeanpark.com/event/mothers-day/
LOCATION:Caribbean Park\, 35 Dalmore Drive\, Scoresby\, Victoria\, 3000\, Australia
CATEGORIES:Caribbean Park,Event
ATTACH;FMTTYPE=image/jpeg:https://mycaribbeanpark.com/wp-content/uploads/2025/02/Drone-pond.jpg
END:VEVENT
BEGIN:VEVENT
DTSTART;VALUE=DATE:20260510
DTEND;VALUE=DATE:20260511
DTSTAMP:20260424T163024
CREATED:20260409T043831Z
LAST-MODIFIED:20260409T044636Z
UID:10000970-1778371200-1778457599@mycaribbeanpark.com
SUMMARY:San Lorenzo - MOTHER'S DAY DINING EXPERIENCE
DESCRIPTION:CELEBRATE MUM WITH A SAN LORENZO DINING EXPERIENCE THIS YEAR. \nINCLUSIONS \nENJOY A FOUR COURSE CHEF SET MENU\n$120 PP\n4 COURSE CHEF SET MENU \n\n\n\n DETAILS \n\nSunday 10th May\, 2026\nLunch from: 11:30PM\nDinner from: 5:30PM\n$120PP per person\n\n\n\n\n\nWHERE \n\n\n\n\nSan Lorenzo Restaurant\n31 Dalmore Drive\,\nScoresby VIC 3179 \n\n\n\nBOOK TICKETS \n\n\n\n\nBookings now available online for up to 8 people. \nBook Now \nFor larger groups of 8+ please enquire via email on info@sanlorenzorestaurant.com.au. \nAvailability for this special event is limited so please enquire now to book your spot!
URL:https://mycaribbeanpark.com/event/san-lorenzo-mothers-day-dining-experience/
CATEGORIES:Event,San Lorenzo
ATTACH;FMTTYPE=image/png:https://mycaribbeanpark.com/wp-content/uploads/2025/02/Service.png
END:VEVENT
BEGIN:VEVENT
DTSTART;TZID=Australia/Melbourne:20260510T110000
DTEND;TZID=Australia/Melbourne:20260510T160000
DTSTAMP:20260424T163024
CREATED:20260407T020739Z
LAST-MODIFIED:20260407T021025Z
UID:10000969-1778410800-1778428800@mycaribbeanpark.com
SUMMARY:Hyatt Place Melbourne Caribbean Park Mother's Day High Tea
DESCRIPTION:Indulge in a memorable afternoon this Mother’s Day for a lovely High Tea event at Hyatt Place Melbourne Caribbean Park.  Bring your family and friends to celebrate at Archie’s Farm Restaurant & Bar on Sunday\, 10 May 2026. 🥂 \nEnjoy a decadent spread including a chocolate fountain\, grazing station\, live music\, sparkling wine\, and a special High Tea menu for the little ones. \nSunday High Tea Details\nSunday 10th May\n2 seatings of 11am – 1pm and 2pm – 4pm\nBookings are essential \n$95 per adult\n$50 children (aged 6 – 12 years) \n– Welcome drink\n– Chocolate fountain station\n– A delectable grazing station\n– Kid’s high tea menu available\n– Live music\n– Small gift \nMENU \nBOOK NOW  \n \n  \n 
URL:https://mycaribbeanpark.com/event/hyatt-place-mothers-day-high-tea/
CATEGORIES:Event,Hyatt Place
ATTACH;FMTTYPE=image/jpeg:https://mycaribbeanpark.com/wp-content/uploads/2025/02/20211207-Ryan-Hyatt-Caribbean-Park_JG_6014-low-res-1-scaled-e1739936093682.jpg
END:VEVENT
END:VCALENDAR