BEGIN:VCALENDAR
VERSION:2.0
PRODID:-//My Caribbean Park - ECPv6.15.20//NONSGML v1.0//EN
CALSCALE:GREGORIAN
METHOD:PUBLISH
X-ORIGINAL-URL:https://mycaribbeanpark.com
X-WR-CALDESC:Events for My Caribbean Park
REFRESH-INTERVAL;VALUE=DURATION:PT1H
X-Robots-Tag:noindex
X-PUBLISHED-TTL:PT1H
BEGIN:VTIMEZONE
TZID:Australia/Melbourne
BEGIN:STANDARD
TZOFFSETFROM:+1100
TZOFFSETTO:+1000
TZNAME:AEST
DTSTART:20210403T160000
END:STANDARD
BEGIN:DAYLIGHT
TZOFFSETFROM:+1000
TZOFFSETTO:+1100
TZNAME:AEDT
DTSTART:20211002T160000
END:DAYLIGHT
BEGIN:STANDARD
TZOFFSETFROM:+1100
TZOFFSETTO:+1000
TZNAME:AEST
DTSTART:20220402T160000
END:STANDARD
BEGIN:DAYLIGHT
TZOFFSETFROM:+1000
TZOFFSETTO:+1100
TZNAME:AEDT
DTSTART:20221001T160000
END:DAYLIGHT
BEGIN:STANDARD
TZOFFSETFROM:+1100
TZOFFSETTO:+1000
TZNAME:AEST
DTSTART:20230401T160000
END:STANDARD
BEGIN:DAYLIGHT
TZOFFSETFROM:+1000
TZOFFSETTO:+1100
TZNAME:AEDT
DTSTART:20230930T160000
END:DAYLIGHT
END:VTIMEZONE
BEGIN:VEVENT
DTSTART;TZID=Australia/Melbourne:20220310T120000
DTEND;TZID=Australia/Melbourne:20220630T150000
DTSTAMP:20260424T162534
CREATED:20220310T142157Z
LAST-MODIFIED:20220310T142157Z
UID:10000161-1646913600-1656601200@mycaribbeanpark.com
SUMMARY:Hyatt Place Express Lunch
DESCRIPTION:Hyatt Place Melbourne Caribbean Park have got your weekday lunches sorted! \nJoin them for an express lunch at Archie’s Farm Restaurant & Bar\, available Monday to Friday from 12pm to 3pm. \nTheir express lunch menu offers a choice of burger\, salad or pizza with a glass of beer\, wine or soft drinks\, all for $28.
URL:https://mycaribbeanpark.com/event/hyatt-place-express-lunch/
LOCATION:VIC
CATEGORIES:Event,Hyatt Place
ATTACH;FMTTYPE=:
END:VEVENT
BEGIN:VEVENT
DTSTART;TZID=Australia/Melbourne:20220623T114500
DTEND;TZID=Australia/Melbourne:20220623T133000
DTSTAMP:20260424T162534
CREATED:20220607T111353Z
LAST-MODIFIED:20220607T111353Z
UID:10000167-1655984700-1655991000@mycaribbeanpark.com
SUMMARY:Winter Warmer Ben Jansz Music
DESCRIPTION:Warm your soul this cold winter with the healing sounds of Ben Jansz from Byron Bay \nPlaying 11:45am – 1:15pm \nThursday June 23rd 2022 Middleman cafe brought to you by Caribbean Park \nhttps://www.surveymonkey.com/r/SC9T7J9
URL:https://mycaribbeanpark.com/event/winter-warmer-ben-jansz-music/
LOCATION:VIC
CATEGORIES:Caribbean Park,Event,Middleman
ATTACH;FMTTYPE=:
END:VEVENT
BEGIN:VEVENT
DTSTART;VALUE=DATE:20220627
DTEND;VALUE=DATE:20220901
DTSTAMP:20260424T162534
CREATED:20220629T153313Z
LAST-MODIFIED:20220629T153313Z
UID:10000169-1656288000-1661990399@mycaribbeanpark.com
SUMMARY:10% off drinks at Hyatt Place
DESCRIPTION:Hyatt is offering a beverage discount exclusively for Caribbean Park Community. \nThe offer is 10% off any drinks on their menu\, any time of the day. All you need to do is let the Host team know you are from Caribbean Park.
URL:https://mycaribbeanpark.com/event/drinksoffer/
LOCATION:VIC
CATEGORIES:Hyatt Place
ATTACH;FMTTYPE=:
END:VEVENT
BEGIN:VEVENT
DTSTART;VALUE=DATE:20220628
DTEND;VALUE=DATE:20220705
DTSTAMP:20260424T162534
CREATED:20220628T095905Z
LAST-MODIFIED:20220628T095905Z
UID:10000168-1656374400-1656979199@mycaribbeanpark.com
SUMMARY:Happy EOFY
DESCRIPTION:Caribbean Park welcomes a new financial year with a little sweetness. \nThe team will be coming around with a small gift for you as a thank you for being at Caribbean Park. \nWe wish you a Happy EOFY and hope to see you at our next community event. \nMake sure you subscribe to our email and follow our socials to keep up with all the upcoming events. \nSUBSCRIBE TO EMAIL \nFOLLOW US ON INSTAGRAM
URL:https://mycaribbeanpark.com/event/happy-eofy/
LOCATION:VIC
CATEGORIES:Event
ATTACH;FMTTYPE=:
END:VEVENT
END:VCALENDAR