BEGIN:VCALENDAR
VERSION:2.0
PRODID:-//My Caribbean Park - ECPv6.15.20//NONSGML v1.0//EN
CALSCALE:GREGORIAN
METHOD:PUBLISH
X-ORIGINAL-URL:https://mycaribbeanpark.com
X-WR-CALDESC:Events for My Caribbean Park
REFRESH-INTERVAL;VALUE=DURATION:PT1H
X-Robots-Tag:noindex
X-PUBLISHED-TTL:PT1H
BEGIN:VTIMEZONE
TZID:Australia/Melbourne
BEGIN:STANDARD
TZOFFSETFROM:+1100
TZOFFSETTO:+1000
TZNAME:AEST
DTSTART:20210403T160000
END:STANDARD
BEGIN:DAYLIGHT
TZOFFSETFROM:+1000
TZOFFSETTO:+1100
TZNAME:AEDT
DTSTART:20211002T160000
END:DAYLIGHT
BEGIN:STANDARD
TZOFFSETFROM:+1100
TZOFFSETTO:+1000
TZNAME:AEST
DTSTART:20220402T160000
END:STANDARD
BEGIN:DAYLIGHT
TZOFFSETFROM:+1000
TZOFFSETTO:+1100
TZNAME:AEDT
DTSTART:20221001T160000
END:DAYLIGHT
BEGIN:STANDARD
TZOFFSETFROM:+1100
TZOFFSETTO:+1000
TZNAME:AEST
DTSTART:20230401T160000
END:STANDARD
BEGIN:DAYLIGHT
TZOFFSETFROM:+1000
TZOFFSETTO:+1100
TZNAME:AEDT
DTSTART:20230930T160000
END:DAYLIGHT
END:VTIMEZONE
BEGIN:VEVENT
DTSTART;VALUE=DATE:20220627
DTEND;VALUE=DATE:20220901
DTSTAMP:20260424T110623
CREATED:20220629T153313Z
LAST-MODIFIED:20220629T153313Z
UID:10000169-1656288000-1661990399@mycaribbeanpark.com
SUMMARY:10% off drinks at Hyatt Place
DESCRIPTION:Hyatt is offering a beverage discount exclusively for Caribbean Park Community. \nThe offer is 10% off any drinks on their menu\, any time of the day. All you need to do is let the Host team know you are from Caribbean Park.
URL:https://mycaribbeanpark.com/event/drinksoffer/
LOCATION:VIC
CATEGORIES:Hyatt Place
ATTACH;FMTTYPE=:
END:VEVENT
BEGIN:VEVENT
DTSTART;TZID=Australia/Melbourne:20220809T110000
DTEND;TZID=Australia/Melbourne:20220809T113000
DTSTAMP:20260424T110623
CREATED:20220801T155302Z
LAST-MODIFIED:20220801T155302Z
UID:10000173-1660042800-1660044600@mycaribbeanpark.com
SUMMARY:Barry Du Bois chats R U OK?
DESCRIPTION:Barry Du Bois chats RUOK?  \nPresented by Hisense Australia at Middleman Café Tuesday 9th August 2022 11-11:30am \n \nOn behalf of Hisense Australia\, you’re invited to a live talk with Barry Du Bois on Tuesday 9 August at 11am. \n Famous for his seat on the couch of Network Ten’s ‘The Living Room’\, Barry – fondly known as Baz – is a renovation expert\, master builder\, Hisense Australia ambassador and board member for R U OK? \n Ahead of this year’s R U OK? Day\, set to take place on 8 September\, Baz has kindly offered to join us at Middleman Café\, Caribbean Park to share his story and the importance of asking a simple question\, R U OK? \nR U OK? is a harm prevention charity that encourages people to stay connected and have conversations that can help others through difficult times in their lives. \n R U OK? contributes to suicide prevention efforts by encouraging people to invest more time in their personal relationships and building the capacity of informal support networks – friends\, family and colleagues – to be alert to those around them\, have a conversation if they identify signs of distress or difficulty\, and connect someone to appropriate support\, long before they’re in crisis. \nWe encourage you to grab a coffee or a snack and listen to Baz talk about this very important topic\, that we should all really get behind. \nLook forward to seeing you!
URL:https://mycaribbeanpark.com/event/barrydubois/
LOCATION:VIC
CATEGORIES:Caribbean Park,Event,Middleman
END:VEVENT
BEGIN:VEVENT
DTSTART;TZID=Australia/Melbourne:20220809T120000
DTEND;TZID=Australia/Melbourne:20220812T133000
DTSTAMP:20260424T110623
CREATED:20220805T114054Z
LAST-MODIFIED:20220805T114054Z
UID:10000177-1660046400-1660311000@mycaribbeanpark.com
SUMMARY:San Lorenzo - "Pranzo Veloce" $25 Express Lunch
DESCRIPTION:“PRANZO VELOCE” $25 EXPRESS LUNCH AT SAN LORENZO\n\n\n\n\nIn honour of San Lorenzo the patron saint of cooks\, San Lorenzo is serving the “Pranzo Veloce” – an Express Lunch launching on Tuesday 9 August. \nTradition tells us that when Lorenzo was sentenced to death after humiliating the pa-gan prefect of Rome at the time\, he was roasted to death on a gridiron\, and to him are attributed the famous dying words\, “Turn me over\, I’m done on this side.” \nSan Lorenzo’s Feast Day\, is typically celebrated in Italy on 10 August with barbecues\, and in true Italian tradition San Lorenzo will serve ‘Porchetta’ rolled & roasted crispy pork belly\, house slaw\, bread roll.\nAlongside a glass of white or red wine\, imported beer or soft drink. \nJoin us for “Pranzo Veloce”\, our $25 Express Lunch* served at Bar Lorenzo from Tuesday 9 August to Friday 12 August \n\n\n\n\n\n\n\n\nTUES 9 AUG:\n\n\n\n\n\n\n\n\nBOOK NOW\n\n\n\n\n\n\n\n\n\n\n\n\nWED 10 AUG:\n\n\n\n\n\n\n\n\nBOOK NOW\n\n\n\n\n\n\n\n\n\n\n\n\nTHUR 11 AUG:\n\n\n\n\n\n\n\n\nBOOK NOW\n\n\n\n\n\n\n\n\n\n\n\n\nFRI 12 AUG:\n\n\n\n\n\n\n\n\nBOOK NOW\n\n\n\n\n\n\n\n\n\n\n\n\n\n\n\n\nDETAILS\n\n\n\n\n\nTuesday 9th August to Friday 12th August\nLunch from 12:00pm\n$25 per person\n\n\n\n\n\nWHERE\n\n\n\n\nBAR LORENZO\nSan Lorenzo Restaurant\n31 Dalmore Drive\nScoresby. VIC 3179 \n\n\n\n\n\n\n\n\nINCLUSIONS\n\n\n\n\n$25 per person includes ‘Porchetta’ rolled & roasted crispy pork belly\, house slaw\, bread roll. \nAlongside a glass of white or red wine\, imported beer or soft drink. \n\n\n\n\nBOOK TICKETS\n\n\n\n\nLimited seats available\nP 03 9764 8357\nE info@sanlorenzorestaurant.com.au
URL:https://mycaribbeanpark.com/event/express-lunch/
LOCATION:VIC
CATEGORIES:Event,San Lorenzo
END:VEVENT
BEGIN:VEVENT
DTSTART;TZID=Australia/Melbourne:20220814T130000
DTEND;TZID=Australia/Melbourne:20220814T150000
DTSTAMP:20260424T110623
CREATED:20220804T142936Z
LAST-MODIFIED:20220804T142936Z
UID:10000174-1660482000-1660489200@mycaribbeanpark.com
SUMMARY:Hyatt Place High Tea
DESCRIPTION:Bring your family and friends to celebrate at Archie’s Farm Restaurant & Bar with the introduction of Archie’s High Tea on Sunday\, 14 August 2022. \nHigh Tea is served on a traditional three-tiered stand\, featuring a selection of sweet delights and savoury treats and freshly baked scones with Chantilly cream and fruit preserves. \nHigh Tea is accompanied with your choice of unlimited specialty teas\, espresso coffee or hot chocolate. Gluten free options available upon request. \nSunday High Tea Details\nEvery second Sunday of the month commencing 14 August 2022.\n1:00pm – 3:00pm\nBookings are essential \n$70 per adult\n$60 seniors\n$35 children (aged 5 – 12 years) \nSenior Pricing\n$10.00 discount applies to seniors upon presentation of a seniors card when paying your account. Please note we do not automatically apply seniors discount unless presented by guests. Cannot be used in conjunction with any other offer. \nDiscover more: Archie’s Restaurant & Bar | Hyatt Place Melbourne Caribbean Park \nBookings: Archie’s Farm Restaurant & Bar – TableCheck \n10% off on Archie’s High Tea and Father’s Day Long Lunch. Exclusively for Caribbean Park tenants.  \nJust quote special offer code: CPARK10AUG at the time of booking.
URL:https://mycaribbeanpark.com/event/high-tea/
LOCATION:VIC
CATEGORIES:Event,Hyatt Place
END:VEVENT
BEGIN:VEVENT
DTSTART;TZID=Australia/Melbourne:20220830T110000
DTEND;TZID=Australia/Melbourne:20220830T130000
DTSTAMP:20260424T110623
CREATED:20220823T154229Z
LAST-MODIFIED:20220823T154229Z
UID:10000178-1661857200-1661864400@mycaribbeanpark.com
SUMMARY:NUTRITION WAREHOUSE FREE TASTING + CLUB LIME
DESCRIPTION:Club Lime have collaborated with Nutrition Warehouse to provide Caribbean Park tenants and staff a special event next week.\n\nNutrition Warehouse will be in Club Lime Caribbean Park next Tuesday from 11am-1pm for a FREE taste testing of their products as well as goodie bags\, discount codes for Club Lime members and more.\n\nIt’ll be a lovely event and they’d love to see you there.
URL:https://mycaribbeanpark.com/event/club-lime-nutrition-warehouse-free-tasting/
LOCATION:work sans;normal;400;100%;U+0-10FFFF
CATEGORIES:Club Lime,Event
END:VEVENT
END:VCALENDAR