BEGIN:VCALENDAR
VERSION:2.0
PRODID:-//My Caribbean Park - ECPv6.15.20//NONSGML v1.0//EN
CALSCALE:GREGORIAN
METHOD:PUBLISH
X-WR-CALNAME:My Caribbean Park
X-ORIGINAL-URL:https://mycaribbeanpark.com
X-WR-CALDESC:Events for My Caribbean Park
REFRESH-INTERVAL;VALUE=DURATION:PT1H
X-Robots-Tag:noindex
X-PUBLISHED-TTL:PT1H
BEGIN:VTIMEZONE
TZID:Australia/Melbourne
BEGIN:STANDARD
TZOFFSETFROM:+1100
TZOFFSETTO:+1000
TZNAME:AEST
DTSTART:20210403T160000
END:STANDARD
BEGIN:DAYLIGHT
TZOFFSETFROM:+1000
TZOFFSETTO:+1100
TZNAME:AEDT
DTSTART:20211002T160000
END:DAYLIGHT
BEGIN:STANDARD
TZOFFSETFROM:+1100
TZOFFSETTO:+1000
TZNAME:AEST
DTSTART:20220402T160000
END:STANDARD
BEGIN:DAYLIGHT
TZOFFSETFROM:+1000
TZOFFSETTO:+1100
TZNAME:AEDT
DTSTART:20221001T160000
END:DAYLIGHT
BEGIN:STANDARD
TZOFFSETFROM:+1100
TZOFFSETTO:+1000
TZNAME:AEST
DTSTART:20230401T160000
END:STANDARD
BEGIN:DAYLIGHT
TZOFFSETFROM:+1000
TZOFFSETTO:+1100
TZNAME:AEDT
DTSTART:20230930T160000
END:DAYLIGHT
END:VTIMEZONE
BEGIN:VEVENT
DTSTART;TZID=Australia/Melbourne:20220902T120000
DTEND;TZID=Australia/Melbourne:20220902T130000
DTSTAMP:20260424T073123
CREATED:20220719T160246Z
LAST-MODIFIED:20220719T160246Z
UID:10000171-1662120000-1662123600@mycaribbeanpark.com
SUMMARY:Father's Day Gift
DESCRIPTION:Celebrate the people that make your work day just a little easier. \nFather’s Day Brunch Friday 2nd September \nMake your way to San Lorenzo with your work dad. \nBetween 12pm – 1pm to receive a free Coffee & Kransky \nJust let San Lorenzo know that Caribbean Park sent you and on the day fill out this form. \nTO CLAIM CLICK THE BELOW LINK ON THE DAY. \nhttps://www.surveymonkey.com/r/DCD75K3 \nMake sure to get there between 12pm – 1pm before the Kransky rolls run out
URL:https://mycaribbeanpark.com/event/fathers-day/
LOCATION:VIC
CATEGORIES:Event,San Lorenzo
ATTACH;FMTTYPE=:
END:VEVENT
BEGIN:VEVENT
DTSTART;VALUE=DATE:20220904
DTEND;VALUE=DATE:20220905
DTSTAMP:20260424T073123
CREATED:20220805T113418Z
LAST-MODIFIED:20220805T113418Z
UID:10000176-1662249600-1662335999@mycaribbeanpark.com
SUMMARY:San Lorenzo - Father's Day Special
DESCRIPTION:Celebrate Father’s Day at San Lorenzo \nEnjoy a four course Father’s Day lunch or dinner with a complimentary glass of Prosecco on arrival at San Lorenzo restaurant. Allow us to spoil Dad with our signature fine food and wine\, and personal service. \nA special four course menu showcasing fresh and seasonal flavours and ingredients will be offered on Dad’s special day\, along with our impressive drinks list that perfectly compliments your dining experience. \nPop a bottle of French Champagne to mark the occasion\, indulge in the highest quality red or white wines paired perfectly with your meal\, and sit back and enjoy a special dining experience with the man of the moment. \n  \nLunch from 12pm – Book here \nDinner from 6pm – Book here \n$95 per person \n  \n\n\n\n\nDETAILS\n\n\n\n\n\nSunday 4th September\nLunch from 12:00PM\nDinner from 6:00PM\n$95 per person\n\n\n\n\n\nWHERE\n\n\n\n\nSan Lorenzo Restaurant\n31 Dalmore Drive\,\nScoresby VIC 3179 \n\n\n\n\n\n\n\n\nINCLUSIONS\n\n\n\n\n$95 per person includes 4 course menu and free glass of Prosecco on arrival \n\n\n\n\nBOOK TICKETS\n\n\n\n\nP 03 9764 8357\nE info@sanlorenzorestaurant.com.au \n\n\n\n\n*For Bookings of 6 or more people for Lunch or Dinner \, please contact us at info@sanlorenzorestaurant.com.au
URL:https://mycaribbeanpark.com/event/fatherdayspecial/
LOCATION:VIC
CATEGORIES:Event,San Lorenzo
END:VEVENT
BEGIN:VEVENT
DTSTART;TZID=Australia/Melbourne:20220904T120000
DTEND;TZID=Australia/Melbourne:20220904T150000
DTSTAMP:20260424T073123
CREATED:20220804T143718Z
LAST-MODIFIED:20220804T143718Z
UID:10000175-1662292800-1662303600@mycaribbeanpark.com
SUMMARY:Hyatt - Father's Day Long Lunch
DESCRIPTION:Celebrate Father’s Day with long lunch at Archie’s Farm Restaurant & Bar on Sunday 4 September 2022.\n\nEnjoy a three-course sharing menu\, including a cocktail of the day on arrival that everyone can enjoy from the safety and comfort of their own family table. \nOur menu comprises of fresh locally sourced produce and takes dinners on a seasonal exploration across Victoria from the coast to the mountains – and everything in between. \nBookings are essential to avoid disappointment. \nPrices (per person)\n$85 Adults\n$75 Seniors\n$35 Children (aged 5 – 12 years) \nSenior Pricing\n$10.00 discount applies to seniors upon presentation of a seniors card when paying your account. Please note we do not automatically apply seniors discount unless presented by guests. Cannot be used in conjunction with any other offer. \nDiscover more: Archie’s Restaurant & Bar | Hyatt Place Melbourne Caribbean Park \nBookings: Archie’s Farm Restaurant & Bar – TableCheck \n  \n10% off on Archie’s High Tea and Father’s Day Long Lunch. Exclusively for Caribbean Park tenants. \nJust quote special offer code: CPARK10AUG at the time of booking.
URL:https://mycaribbeanpark.com/event/high-tea-2/
LOCATION:VIC
CATEGORIES:Event,Hyatt Place
END:VEVENT
BEGIN:VEVENT
DTSTART;TZID=Australia/Melbourne:20220921T120000
DTEND;TZID=Australia/Melbourne:20220921T140000
DTSTAMP:20260424T073123
CREATED:20220905T170241Z
LAST-MODIFIED:20220905T170241Z
UID:10000180-1663761600-1663768800@mycaribbeanpark.com
SUMMARY:Footy Finals BBQ
DESCRIPTION:Come and celebrate the Grand Final build up with us! \nCaribbean Park is hosting a FREE sausage sizzle only catch is you must RSVP so we don’t run out of sausages!! \nPlease RSVP via Survey Monkey: https://www.surveymonkey.com/r/7QWDBDW  \n  \nPARKING: If you are coming from the Industrial part of Caribbean Park please feel free to use the visitor carping 2 hours free. If this is full you are welcome to use the public underground car parking accessible through 31 Dalmore Drive. You will need a credit card to tap onto the reader for entry and exit. First 3 hours is FREE. \nNote: Due to the public holiday announced for the Queen – we have moved the Grand Final BBQ a day earlier to WEDNESDAY.
URL:https://mycaribbeanpark.com/event/footy-finals-bbq-2-2/
LOCATION:VIC
CATEGORIES:Caribbean Park,Event
ATTACH;FMTTYPE=:
END:VEVENT
BEGIN:VEVENT
DTSTART;TZID=Australia/Melbourne:20220929T163000
DTEND;TZID=Australia/Melbourne:20220929T183000
DTSTAMP:20260424T073123
CREATED:20220905T162709Z
LAST-MODIFIED:20220905T162709Z
UID:10000179-1664469000-1664476200@mycaribbeanpark.com
SUMMARY:CLUB LIME & ELITE SUPPLEMENTS EVENT
DESCRIPTION:Club Lime have collaborated with Elite Supplements to provide Caribbean Park tenants and staff a special event next week.\nElite Supplements will be in Club Lime Caribbean Park Thursday 29th September from 4:30pm-6:30pm for a FREE taste testing event.\nIt’ll be a great event and we’d love to see you there.
URL:https://mycaribbeanpark.com/event/club-lime-elite/
LOCATION:work sans;normal;400;100%;U+0-10FFFF
CATEGORIES:Club Lime,Event
ATTACH;FMTTYPE=:
END:VEVENT
END:VCALENDAR