BEGIN:VCALENDAR
VERSION:2.0
PRODID:-//My Caribbean Park - ECPv6.15.20//NONSGML v1.0//EN
CALSCALE:GREGORIAN
METHOD:PUBLISH
X-ORIGINAL-URL:https://mycaribbeanpark.com
X-WR-CALDESC:Events for My Caribbean Park
REFRESH-INTERVAL;VALUE=DURATION:PT1H
X-Robots-Tag:noindex
X-PUBLISHED-TTL:PT1H
BEGIN:VTIMEZONE
TZID:Australia/Melbourne
BEGIN:STANDARD
TZOFFSETFROM:+1100
TZOFFSETTO:+1000
TZNAME:AEST
DTSTART:20230401T160000
END:STANDARD
BEGIN:DAYLIGHT
TZOFFSETFROM:+1000
TZOFFSETTO:+1100
TZNAME:AEDT
DTSTART:20230930T160000
END:DAYLIGHT
BEGIN:STANDARD
TZOFFSETFROM:+1100
TZOFFSETTO:+1000
TZNAME:AEST
DTSTART:20240406T160000
END:STANDARD
BEGIN:DAYLIGHT
TZOFFSETFROM:+1000
TZOFFSETTO:+1100
TZNAME:AEDT
DTSTART:20241005T160000
END:DAYLIGHT
BEGIN:STANDARD
TZOFFSETFROM:+1100
TZOFFSETTO:+1000
TZNAME:AEST
DTSTART:20250405T160000
END:STANDARD
BEGIN:DAYLIGHT
TZOFFSETFROM:+1000
TZOFFSETTO:+1100
TZNAME:AEDT
DTSTART:20251004T160000
END:DAYLIGHT
END:VTIMEZONE
BEGIN:VEVENT
DTSTART;TZID=Australia/Melbourne:20240223T180000
DTEND;TZID=Australia/Melbourne:20241223T213000
DTSTAMP:20260421T103404
CREATED:20241104T113946Z
LAST-MODIFIED:20250206T233943Z
UID:10000246-1708711200-1734989400@mycaribbeanpark.com
SUMMARY:San Lorenzo - EVE BEFORE XMAS EVE DEGUSTATION DINNER
DESCRIPTION:EVE BEFORE XMAS EVE DEGUSTATION DINNER AT SAN LOENZO! \nSan Lorenzo are excited to announce that due to overwhelming demand\, they will be hosting the ‘EVE BEFORE XMAS EVE DEGUSTATION DINNER’ again this year. \nThis is a perfect opportunity for friends and family to gather before Christmas to enjoy a festive menu and meal together. \n\nDETAILS\nMonday 23rd of December\n6:00pm for a 6:30pm start.\n$130 per person\nServing a 6-course Christmas Set Menu\nBookings now open. \n\n\n\n\n\n\nWHERE\nSan Lorenzo Restaurant\n31 Dalmore Drive\,\nScoresby VIC 3179 \n\n\n\n\n\n\n\n\n\n\n\nBOOK TICKETS – HERE \nP 03 9764 8357\nE info@sanlorenzorestaurant.com.au
URL:https://mycaribbeanpark.com/event/sanlorenzotrading-2/
CATEGORIES:Event,San Lorenzo
END:VEVENT
BEGIN:VEVENT
DTSTART;TZID=Australia/Melbourne:20240501T130000
DTEND;TZID=Australia/Melbourne:20240531T150000
DTSTAMP:20260421T103404
CREATED:20240423T101715Z
LAST-MODIFIED:20240423T101715Z
UID:10000221-1714568400-1717167600@mycaribbeanpark.com
SUMMARY:Club Lime Mother's Day Giveaway
DESCRIPTION:CLUB LIME MOTHER’S DAY GIVEAWAY \nOur wonderful onsite gym has a fantastic giveaway this Mother’s day! \nClub Lime is offering one lucky person the chance to win a 3-month gym membership along with a massage from Movement Lab Physiotherapy here at Caribbean Park. \nClub Lime at Caribbean Park is a premium wellness and fitness facility located in the office tower precinct at 44 Lakeview Drive\, Scoresby. \nJessica is the Club Manager at Caribbean. You’ll find her at the reception desk ready to assist you with your health and fitness goals. \nStay fit and healthy while the cooler months hit by entering the giveaway – CLICK HERE \nFor more information or to find out more details about the gym please visit – CLICK HERE \nTo book in for a tour of the facilities feel free to head down to the club during staffed hours or contact Jessica via email or phone. \nClub Lime Caribbean Park\nAddress: 44 Lakeview Drive\, Scoresby VIC 3179\nPhone: 03 8672 5059\nEmail: caribbeanpark@clublime.com.au
URL:https://mycaribbeanpark.com/event/club-lime-mothers-day-giveaway/
LOCATION:work sans;normal;400;100%;U+0-10FFFF
CATEGORIES:Club Lime,Event
END:VEVENT
BEGIN:VEVENT
DTSTART;VALUE=DATE:20240508
DTEND;VALUE=DATE:20240517
DTSTAMP:20260421T103404
CREATED:20240508T085233Z
LAST-MODIFIED:20240508T085233Z
UID:10000223-1715126400-1715903999@mycaribbeanpark.com
SUMMARY:Free Massages for Mother's from Movement Lab Physio
DESCRIPTION:Mother’s Day FREE 20 minute massage!\nTuesday 14th May & Thursday 16th May 2024.\nBook Now!
URL:https://mycaribbeanpark.com/event/free-massages-for-mothers-from-movement-lab-physio/
LOCATION:work sans;normal;400;100%;U+0-10FFFF
CATEGORIES:Event,Physio
END:VEVENT
BEGIN:VEVENT
DTSTART;TZID=Australia/Melbourne:20240509T120000
DTEND;TZID=Australia/Melbourne:20240509T123000
DTSTAMP:20260421T103404
CREATED:20240423T101001Z
LAST-MODIFIED:20240423T101001Z
UID:10000218-1715256000-1715257800@mycaribbeanpark.com
SUMMARY:Gift for Working Mother's from Caribbean Park
DESCRIPTION:CARIBBEAN PARK MOTHER’S DAY TREAT \nMother’s Day\, the day we can treat the extraordinary women in our lives to something nice\, pamper them with gifts\, and tell them how much they mean to us. 🌼 🌷 \nThursday May 9th\, we ask that you take a step away from your desk and allow us to shower you with a little bit of love. \nMums come and find us at the podium near Middleman from 12pm for a Mother’s Day treat on us! Please ensure you come on time as we don’t want you to miss out on your treat. \nChances to WIN a nights accommodation at Hyatt Place Melbourne Caribbean Park. T&Cs apply. \nTo get into the draw to win the nights accommodation\, you must be following @Caribbean_Park on Instagram and be subscribed to the My Caribbean Newsletter. Make sure you comment ‘done’ on our Mother’s Day Instagram post! \nLink to subscribe to our Newsletter is – HERE \nSpecial thanks to Club Lime Gym\, San Lorenzo\, Middleman Cafe\, Alibi Cafe and the Hyatt for all contributing to this occasion. \nWe will see you at the Podium near Middleman Cafe.
URL:https://mycaribbeanpark.com/event/mothersday-2/
CATEGORIES:Caribbean Park,Event
END:VEVENT
BEGIN:VEVENT
DTSTART;TZID=Australia/Melbourne:20240512T130000
DTEND;TZID=Australia/Melbourne:20240512T150000
DTSTAMP:20260421T103404
CREATED:20240423T101221Z
LAST-MODIFIED:20240423T101221Z
UID:10000220-1715518800-1715526000@mycaribbeanpark.com
SUMMARY:Hyatt Place Mother's Day High Tea
DESCRIPTION:Indulge in a memorable afternoon this Mother’s Day for a lovely High Tea event at Hyatt Place Caribbean Park.  Bring your family and friends to celebrate at Archie’s Farm Restaurant & Bar on Sunday\, 12 May 2024. 🥂 \nEnjoy a decadent spread including a chocolate fountain\, charcuterie platter\, live music\, sparkling wine\, and a special High Tea menu for the little ones. \nSunday High Tea Details\nSunday 12th May\n1:00pm – 3:00pm\nBookings are essential \n$95 per adult\n$85 seniors\n$50 children (aged 5 – 12 years) \n– Sparkling wine on arrival for mums\n– A delectable dessert and grazing station featuring chocolate fountain\, confectionary corner\, charcutterie platter\, cheese and dips board\n– Take home chocolates\n– Specially crafted kid’s high tea menu\n– Live music \nMenu: Archies-High-Tea-Mothers-Day-Menu (hyatt.com) \nBookings: Archie’s Farm Restaurant & Bar – TableCheck
URL:https://mycaribbeanpark.com/event/mothers-day-high-tea2024/
CATEGORIES:Event,Hyatt Place
END:VEVENT
BEGIN:VEVENT
DTSTART;TZID=Australia/Melbourne:20240524T060000
DTEND;TZID=Australia/Melbourne:20240524T090000
DTSTAMP:20260421T103404
CREATED:20240517T131700Z
LAST-MODIFIED:20240517T131700Z
UID:10000224-1716530400-1716541200@mycaribbeanpark.com
SUMMARY:TAXIRIDE to perform live at Caribbean Rollerama
DESCRIPTION:Fifi\, Fev & Nick’s Brekky are Melbourne’s biggest parties and next week they’re heading to Caribbean Rollerama! \nFrom the Brekky Team:\n“Friday\, we’ll be broadcasting in at Caribbean Rollerama with LIVE performances from superstar band Taxiride!\nDon’t miss the fun as Fifi\, Fev & Nick broadcast LIVE from SCORESBY Friday 24th May from 6am – 9am\, come down get free brekky\, coffee and meet the guys PLUS Thousands of Dollars of prizes to win AND live music from Taxiride.\n📍Find Us At – Caribbean Rollerama – 1298 Ferntree Gully Rd\, Scoresby VIC 3179\nOnly on 101.9 The Fox! 😊 We hope to see you there. Tag us on socials or follow along.” \nDetails here: https://www.facebook.com/events/1390032964985534
URL:https://mycaribbeanpark.com/event/foxfm/
CATEGORIES:Event
END:VEVENT
END:VCALENDAR