BEGIN:VCALENDAR
VERSION:2.0
PRODID:-//My Caribbean Park - ECPv6.15.20//NONSGML v1.0//EN
CALSCALE:GREGORIAN
METHOD:PUBLISH
X-ORIGINAL-URL:https://mycaribbeanpark.com
X-WR-CALDESC:Events for My Caribbean Park
REFRESH-INTERVAL;VALUE=DURATION:PT1H
X-Robots-Tag:noindex
X-PUBLISHED-TTL:PT1H
BEGIN:VTIMEZONE
TZID:Australia/Melbourne
BEGIN:STANDARD
TZOFFSETFROM:+1100
TZOFFSETTO:+1000
TZNAME:AEST
DTSTART:20230401T160000
END:STANDARD
BEGIN:DAYLIGHT
TZOFFSETFROM:+1000
TZOFFSETTO:+1100
TZNAME:AEDT
DTSTART:20230930T160000
END:DAYLIGHT
BEGIN:STANDARD
TZOFFSETFROM:+1100
TZOFFSETTO:+1000
TZNAME:AEST
DTSTART:20240406T160000
END:STANDARD
BEGIN:DAYLIGHT
TZOFFSETFROM:+1000
TZOFFSETTO:+1100
TZNAME:AEDT
DTSTART:20241005T160000
END:DAYLIGHT
BEGIN:STANDARD
TZOFFSETFROM:+1100
TZOFFSETTO:+1000
TZNAME:AEST
DTSTART:20250405T160000
END:STANDARD
BEGIN:DAYLIGHT
TZOFFSETFROM:+1000
TZOFFSETTO:+1100
TZNAME:AEDT
DTSTART:20251004T160000
END:DAYLIGHT
BEGIN:STANDARD
TZOFFSETFROM:+1100
TZOFFSETTO:+1000
TZNAME:AEST
DTSTART:20260404T160000
END:STANDARD
BEGIN:DAYLIGHT
TZOFFSETFROM:+1000
TZOFFSETTO:+1100
TZNAME:AEDT
DTSTART:20261003T160000
END:DAYLIGHT
END:VTIMEZONE
BEGIN:VEVENT
DTSTART;TZID=Australia/Melbourne:20240903T120000
DTEND;TZID=Australia/Melbourne:20250104T180000
DTSTAMP:20260426T035028
CREATED:20240904T163842Z
LAST-MODIFIED:20240904T163842Z
UID:10000240-1725364800-1736013600@mycaribbeanpark.com
SUMMARY:San Lorenzo - NEW TRADING HOURS!
DESCRIPTION:NEW TRADING HOURS AT SAN LOENZO! \nSan Lorenzo are excited to announce that due to overwhelming demand\, they will be opening: \n\n5 DINNERS & 5 LUNCHES….. Bookings open NOW. \nDETAILS\nTuesday to Saturday\nFrom next week\, Tuesday the 3rd of September. \nWith Christmas around the corner\, you may be considering Christmas party options and San Lorenzo would love to host you and your team! \nSan Lorenzo restaurant offers a dining experience enhanced by uncomplicated\, yet delicious food complemented by a carefully selected list of European and Australian wines. To be enjoyed in stylish and contemporary surrounds complete with charming dining nooks and Italian-inspired good looks. \n\n\n\n\n\n\nWHERE\nSan Lorenzo Restaurant\n31 Dalmore Drive\,\nScoresby VIC 3179 \n\n\n\n\n\n\n\n\n\n\n\nBOOK TICKETS – HERE \nP 03 9764 8357\nE info@sanlorenzorestaurant.com.au
URL:https://mycaribbeanpark.com/event/sanlorenzotrading/
LOCATION:VIC
CATEGORIES:Event,San Lorenzo
END:VEVENT
BEGIN:VEVENT
DTSTART;TZID=Australia/Melbourne:20241219T080000
DTEND;TZID=Australia/Melbourne:20250107T170000
DTSTAMP:20260426T035028
CREATED:20241216T143051Z
LAST-MODIFIED:20241216T143051Z
UID:10000250-1734595200-1736269200@mycaribbeanpark.com
SUMMARY:Hospitality Hours of Christmas / New Years
DESCRIPTION:🎄Christmas & New Year Hospitality Hours at Caribbean Park \n@sanlorenzo_au\n– San Lorenzo will be closed from Tuesday\, 24th December 2024 and will re-open on Thursday\, 9th January 2025. \n@middlemanfunctions\n-Middleman will be closed on the 19th of December at 2:30pm and will re-open on the 7th of January. \n@alibievents_\n-December trading hours\, 6am-3pm Monday to Friday. Except for 19th\, 20th\, 23rd and 24th of December open 6am-10am \n@hyattplacecaribbeanpark\n– Opening hours as normal. Open for Christmas\, New Years and January! Check their website for further details.  \n@clublimegyms + @movementlabphysio\n-Opening hours as normal
URL:https://mycaribbeanpark.com/event/hospitality-hours/
LOCATION:VIC
CATEGORIES:Caribbean Park,Club Lime,Event,Hyatt Place,Middleman,San Lorenzo,The Alibi
END:VEVENT
BEGIN:VEVENT
DTSTART;TZID=Australia/Melbourne:20250123T120000
DTEND;TZID=Australia/Melbourne:20250123T134500
DTSTAMP:20260426T035028
CREATED:20250108T101334Z
LAST-MODIFIED:20250221T021411Z
UID:10000251-1737633600-1737639900@mycaribbeanpark.com
SUMMARY:Welcome back BBQ & celebration
DESCRIPTION:Welcome back to Caribbean Park for 2025!\nDATE: THURSDAY 23 JANUARY 2025 \n🌭 ENJOY A FREE SAUSAGE & DRINK \n🎾 AUSTRALIA OPEN ON THE BIG SCREEN \n🤝CELEBRATE THE CARIBBEAN PARK COMMUNITY \nAll staff and tenants throughout the park are welcome! \nHead to the South BBQ area from 12pm and follow your senses to enjoy some mouthwatering sausages. \nWe will serve until we run out of sausages… so get in quick to avoid disappointment! \nPlease RSVP to help us with catering. \nCLICK HERE OR SCAN TO RSVP
URL:https://mycaribbeanpark.com/event/welcomebackbbq2025/
LOCATION:VIC
CATEGORIES:Caribbean Park,Event
ATTACH;FMTTYPE=image/png:https://mycaribbeanpark.com/wp-content/uploads/2025/01/IG-Post-1-2.png
END:VEVENT
END:VCALENDAR